BEGIN:VCALENDAR
VERSION:2.0
PRODID:-// - ECPv6.15.20//NONSGML v1.0//EN
CALSCALE:GREGORIAN
METHOD:PUBLISH
X-ORIGINAL-URL:https://www.aikikai.ch
X-WR-CALDESC:Veranstaltungen für 
REFRESH-INTERVAL;VALUE=DURATION:PT1H
X-Robots-Tag:noindex
X-PUBLISHED-TTL:PT1H
BEGIN:VTIMEZONE
TZID:UTC
BEGIN:STANDARD
TZOFFSETFROM:+0000
TZOFFSETTO:+0000
TZNAME:UTC
DTSTART:20250101T000000
END:STANDARD
END:VTIMEZONE
BEGIN:VEVENT
DTSTART;TZID=UTC:20260906T100000
DTEND;TZID=UTC:20260906T130000
DTSTAMP:20260422T111523
CREATED:20260114T101957Z
LAST-MODIFIED:20260114T141722Z
UID:5732-1788688800-1788699600@www.aikikai.ch
SUMMARY:Genkikai _ Japanisches Yoga
DESCRIPTION:Genkikai verbindet Meditation\, Atmung und sanfte Gymnastikformen.\nWir entspannen und erfrischen uns. Spezifische Atemübungen helfen uns\, unsere Mitte zu spüren – die Stille der Meditation unterstützt uns darin\, unsere Gefühle\, Gedanken und unseren Körper achtsamer wahrzunehmen.\nUnser Körper\, unsere Seele und unser Geist erhalten im Genkikai Zeit\, um zur Ruhe zu kommen und unseren Alltag loszulassen. \nEs sind keine Vorkenntnisse nötig. Neue Gesichter sind herzlichst willkommen. \nMitnehmen:\nBequeme\, warme Trainingsbekleidung\, Socken\, saubere Badeschläppli oder Hausschuhe\, Sitzkissen (oder Handtücher\, auf denen ihr bequem sitzen könnt\, ca 20-30 cm hoch) \nFr 40.- in bar und idealerweise in kleinen Noten. \nBitte bis am Mittwoch vorher per E-Mail anmelden.\nelisabeth.heiz@gmx.ch\nProgramm zum Downloaden
URL:https://www.aikikai.ch/mitglieder-event/genkikai-_-japanisches-yoga-19
LOCATION:Aikidoschule SanShinKai Basel\, Hagentalerstrasse 49\, Basel\, BS\, 4055\, Schweiz
CATEGORIES:Mitglieder-Events
ATTACH;FMTTYPE=image/png:https://www.aikikai.ch/wp-content/uploads/2024/08/Genkikai.png
ORGANIZER;CN="Aikidoschule SanShinKai Basel":MAILTO:info@aikidoschule-sanshinkai-basel.ch
END:VEVENT
BEGIN:VEVENT
DTSTART;TZID=UTC:20260919T100000
DTEND;TZID=UTC:20260919T170000
DTSTAMP:20260422T111523
CREATED:20250922T124859Z
LAST-MODIFIED:20250922T124859Z
UID:5514-1789812000-1789837200@www.aikikai.ch
SUMMARY:ACSA Jahrestreffen Moosseedorf (BE)
DESCRIPTION:Infos folgen noch!
URL:https://www.aikikai.ch/mitglieder-event/acsa-jahrestreffen-moosseedorf-be
LOCATION:Moosseedorf Jahrestreffen\, Schulhausstrasse 26\, Moosseedorf\, 3302\, Schweiz
CATEGORIES:ACSA-Events
ATTACH;FMTTYPE=image/png:https://www.aikikai.ch/wp-content/uploads/2024/05/ACSA-Logo-klein-e1723986431189.png
END:VEVENT
BEGIN:VEVENT
DTSTART;TZID=UTC:20261010T100000
DTEND;TZID=UTC:20261010T163000
DTSTAMP:20260422T111523
CREATED:20260114T103112Z
LAST-MODIFIED:20260120T123045Z
UID:5762-1791626400-1791649800@www.aikikai.ch
SUMMARY:DLC - CALOZ NO KATA Seminar Jo und Bokken Kata
DESCRIPTION:CALOZ NO KATA Seminar\nJo und Bokken Kata\, B.Caloz\nmit Jürg Kohler\, 3. Dan Aikikai\nSamstag den 10. Oktober 2026\nProgramm:\n10:00 bis 12:00 Uhr : 1. Training (Technik 1 bis 15)\nPause\n14:00 bis 16:30 Uhr : 2. Training (Technik 16 bis 30)\nPrix: CHF 20.00/P. (Empfehlung: kommt zu zweit!) \nProgramm download
URL:https://www.aikikai.ch/mitglieder-event/dlc-caloz-no-kata-seminar-jo-und-bokken-kata-3
LOCATION:Dojo La Cézille\, Rue de la Cézille 18\, 1269 Bassins VD\, Waadt\, 1269\, Schweiz
CATEGORIES:Mitglieder-Events
ATTACH;FMTTYPE=image/png:https://www.aikikai.ch/wp-content/uploads/2025/01/Logo.png
ORGANIZER;CN="DLC Dojo La C%C3%A9zille":MAILTO:juerg.kohler@bluewin.ch
END:VEVENT
BEGIN:VEVENT
DTSTART;TZID=UTC:20261017T100000
DTEND;TZID=UTC:20261018T120000
DTSTAMP:20260422T111523
CREATED:20250922T125054Z
LAST-MODIFIED:20250922T125054Z
UID:5516-1792231200-1792324800@www.aikikai.ch
SUMMARY:ACSA Stage Bottmingen (BL)
DESCRIPTION:Infos folgen noch!
URL:https://www.aikikai.ch/mitglieder-event/acsa-stage-bottmingen-bl
LOCATION:BS
CATEGORIES:ACSA-Events
ATTACH;FMTTYPE=image/png:https://www.aikikai.ch/wp-content/uploads/2024/05/ACSA-Logo-klein-e1723986431189.png
END:VEVENT
BEGIN:VEVENT
DTSTART;TZID=UTC:20261025T100000
DTEND;TZID=UTC:20261025T130000
DTSTAMP:20260422T111523
CREATED:20260114T102018Z
LAST-MODIFIED:20260114T141620Z
UID:5738-1792922400-1792933200@www.aikikai.ch
SUMMARY:Genkikai _ Japanisches Yoga
DESCRIPTION:Genkikai verbindet Meditation\, Atmung und sanfte Gymnastikformen.\nWir entspannen und erfrischen uns. Spezifische Atemübungen helfen uns\, unsere Mitte zu spüren – die Stille der Meditation unterstützt uns darin\, unsere Gefühle\, Gedanken und unseren Körper achtsamer wahrzunehmen.\nUnser Körper\, unsere Seele und unser Geist erhalten im Genkikai Zeit\, um zur Ruhe zu kommen und unseren Alltag loszulassen. \nEs sind keine Vorkenntnisse nötig. Neue Gesichter sind herzlichst willkommen. \nMitnehmen:\nBequeme\, warme Trainingsbekleidung\, Socken\, saubere Badeschläppli oder Hausschuhe\, Sitzkissen (oder Handtücher\, auf denen ihr bequem sitzen könnt\, ca 20-30 cm hoch) \nFr 40.- in bar und idealerweise in kleinen Noten. \nBitte bis am Mittwoch vorher per E-Mail anmelden.\nelisabeth.heiz@gmx.ch\nProgramm zum Downloaden
URL:https://www.aikikai.ch/mitglieder-event/genkikai-_-japanisches-yoga-20
LOCATION:Aikidoschule SanShinKai Basel\, Hagentalerstrasse 49\, Basel\, BS\, 4055\, Schweiz
CATEGORIES:Mitglieder-Events
ATTACH;FMTTYPE=image/png:https://www.aikikai.ch/wp-content/uploads/2024/08/Genkikai.png
ORGANIZER;CN="Aikidoschule SanShinKai Basel":MAILTO:info@aikidoschule-sanshinkai-basel.ch
END:VEVENT
BEGIN:VEVENT
DTSTART;TZID=UTC:20261114T090000
DTEND;TZID=UTC:20261114T120000
DTSTAMP:20260422T111523
CREATED:20251229T124018Z
LAST-MODIFIED:20251229T192002Z
UID:5654-1794646800-1794657600@www.aikikai.ch
SUMMARY:Aikido Stage in Ostermundigen am 14. November 2026
DESCRIPTION:mit:\nThomas Moser Shidoin 5. Dan\nSandra Bernaschina Moser Shidoin 4. Dan\n\n\nOrt: Aikido Dojo Ostermundigen\, Grubenstrasse 6\, 3072 OstermundigenThema: Prüfungsprogramme alle Stufen (Kinder und Erwachsene) \nKosten Stage: Erwachsene CHF 15.00 Kinder CHF Kostenlos \nTrainingszeit:  von 09.00 Uhr bis 12.00 Uhr \nTeilnehmerzahl: ist auf 20  beschränkt. \nAnmeldung senden an: info@aikidoschule-zollikofen.ch \nProgramm Download
URL:https://www.aikikai.ch/mitglieder-event/aikido-stage-in-ostermundigen-am-14-november-2026
LOCATION:Aikido Dojo Ostermundigen\, Grubenstrasse 6\, 3072 Ostermundigen\, Grubenstrasse 6\, Ostermundigen\, 3072\, Schweiz
CATEGORIES:Mitglieder-Events
ATTACH;FMTTYPE=image/png:https://www.aikikai.ch/wp-content/uploads/2025/12/Logo-Aikidoschulen-Ost-Zoll-Lyss.png
END:VEVENT
BEGIN:VEVENT
DTSTART;TZID=UTC:20261115T100000
DTEND;TZID=UTC:20261115T130000
DTSTAMP:20260422T111523
CREATED:20260114T102036Z
LAST-MODIFIED:20260114T141500Z
UID:5744-1794736800-1794747600@www.aikikai.ch
SUMMARY:Genkikai _ Japanisches Yoga
DESCRIPTION:Genkikai verbindet Meditation\, Atmung und sanfte Gymnastikformen.\nWir entspannen und erfrischen uns. Spezifische Atemübungen helfen uns\, unsere Mitte zu spüren – die Stille der Meditation unterstützt uns darin\, unsere Gefühle\, Gedanken und unseren Körper achtsamer wahrzunehmen.\nUnser Körper\, unsere Seele und unser Geist erhalten im Genkikai Zeit\, um zur Ruhe zu kommen und unseren Alltag loszulassen. \nEs sind keine Vorkenntnisse nötig. Neue Gesichter sind herzlichst willkommen. \nMitnehmen:\nBequeme\, warme Trainingsbekleidung\, Socken\, saubere Badeschläppli oder Hausschuhe\, Sitzkissen (oder Handtücher\, auf denen ihr bequem sitzen könnt\, ca 20-30 cm hoch) \nFr 40.- in bar und idealerweise in kleinen Noten. \nBitte bis am Mittwoch vorher per E-Mail anmelden.\nelisabeth.heiz@gmx.ch\nProgramm zum Downloaden
URL:https://www.aikikai.ch/mitglieder-event/genkikai-_-japanisches-yoga-21
LOCATION:Aikidoschule SanShinKai Basel\, Hagentalerstrasse 49\, Basel\, BS\, 4055\, Schweiz
CATEGORIES:Mitglieder-Events
ATTACH;FMTTYPE=image/png:https://www.aikikai.ch/wp-content/uploads/2024/08/Genkikai.png
ORGANIZER;CN="Aikidoschule SanShinKai Basel":MAILTO:info@aikidoschule-sanshinkai-basel.ch
END:VEVENT
BEGIN:VEVENT
DTSTART;TZID=UTC:20261128T133000
DTEND;TZID=UTC:20261128T163000
DTSTAMP:20260422T111523
CREATED:20260114T102407Z
LAST-MODIFIED:20260114T142319Z
UID:5758-1795872600-1795883400@www.aikikai.ch
SUMMARY:Stage in Breitenbach mit Lisa Heiz\, 6. Dan - anschliessenden Prüfungen für Erwachsene
DESCRIPTION:Seit vielen Jahren pflegen wir fruchtbare Zusammenarbeit und Kontakte mit dem Aikidodojo Laufental-Thierstein und anderen befreundeten Aikidokas. \nUnsere Schulen sind seit vielen Jahren freundschaftlich verbunden. Ich freue mich sehr auf das Wiedersehen\, und den Austausch. \nFalls ihr trainierende Kinder/Jugendliche mitnehmen möchtet\, sind diese herzlich willkommen. Sie sollten mindestens 10 Jahre alt sein\, rollen und drei Stunden die Konzentration aufrecht erhalten  können- und bitte: kommt ungefähr im Verhältnis 1:2 Kinder/Jugendliche mit Erwachsenen. Der Stage ist nicht als Kinder-/Jugendstage konzipiert\, sondern als Generationenmix. \nIm Anschluss an den Stage finden Prüfungen statt und danach gehen wir gemeinsam Essen. Bitte bei der Anmeldung vermerken: mit oder ohne Abendessen \nProgramm Download
URL:https://www.aikikai.ch/mitglieder-event/stage-in-breitenbach-mit-lisa-heiz-_-anschliessenden-pruefungen-fuer-erwachsene-4
LOCATION:Dojo Laufental-Thierstein Grienackerweg 13\, 4226 Breitenbach\, Grienackerweg 13\, Breitenbach\, 4226\, Switzerland
CATEGORIES:Mitglieder-Events
ATTACH;FMTTYPE=image/png:https://www.aikikai.ch/wp-content/uploads/2025/02/Basel_schmal-e1739009527432.png
ORGANIZER;CN="Aikidoschule SanShinKai Basel":MAILTO:info@aikidoschule-sanshinkai-basel.ch
END:VEVENT
BEGIN:VEVENT
DTSTART;TZID=UTC:20261212T100000
DTEND;TZID=UTC:20261212T160000
DTSTAMP:20260422T111523
CREATED:20260128T121502Z
LAST-MODIFIED:20260408T083225Z
UID:5902-1797069600-1797091200@www.aikikai.ch
SUMMARY:Yudansha-Stage in Yverdon
DESCRIPTION:mit:\nLisa Heiz 6. Dan\nAndreas Raudies 6. Dan \nInfos folgen!
URL:https://www.aikikai.ch/mitglieder-event/yudansha-stage-in-yverdon
LOCATION:BS
CATEGORIES:ACSA-Events
ATTACH;FMTTYPE=image/png:https://www.aikikai.ch/wp-content/uploads/2024/05/ACSA-Logo-klein-e1723986431189.png
END:VEVENT
BEGIN:VEVENT
DTSTART;TZID=UTC:20261213T100000
DTEND;TZID=UTC:20261213T130000
DTSTAMP:20260422T111523
CREATED:20260114T102056Z
LAST-MODIFIED:20260114T141336Z
UID:5750-1797156000-1797166800@www.aikikai.ch
SUMMARY:Genkikai _ Japanisches Yoga
DESCRIPTION:Genkikai verbindet Meditation\, Atmung und sanfte Gymnastikformen.\nWir entspannen und erfrischen uns. Spezifische Atemübungen helfen uns\, unsere Mitte zu spüren – die Stille der Meditation unterstützt uns darin\, unsere Gefühle\, Gedanken und unseren Körper achtsamer wahrzunehmen.\nUnser Körper\, unsere Seele und unser Geist erhalten im Genkikai Zeit\, um zur Ruhe zu kommen und unseren Alltag loszulassen. \nEs sind keine Vorkenntnisse nötig. Neue Gesichter sind herzlichst willkommen. \nMitnehmen:\nBequeme\, warme Trainingsbekleidung\, Socken\, saubere Badeschläppli oder Hausschuhe\, Sitzkissen (oder Handtücher\, auf denen ihr bequem sitzen könnt\, ca 20-30 cm hoch) \nFr 40.- in bar und idealerweise in kleinen Noten. \nBitte bis am Mittwoch vorher per E-Mail anmelden.\nelisabeth.heiz@gmx.ch\nProgramm zum Downloaden
URL:https://www.aikikai.ch/mitglieder-event/genkikai-_-japanisches-yoga-22
LOCATION:Aikidoschule SanShinKai Basel\, Hagentalerstrasse 49\, Basel\, BS\, 4055\, Schweiz
CATEGORIES:Mitglieder-Events
ATTACH;FMTTYPE=image/png:https://www.aikikai.ch/wp-content/uploads/2024/08/Genkikai.png
ORGANIZER;CN="Aikidoschule SanShinKai Basel":MAILTO:info@aikidoschule-sanshinkai-basel.ch
END:VEVENT
BEGIN:VEVENT
DTSTART;TZID=UTC:20271016T100000
DTEND;TZID=UTC:20271017T120000
DTSTAMP:20260422T111523
CREATED:20250922T125600Z
LAST-MODIFIED:20250922T125600Z
UID:5520-1823680800-1823774400@www.aikikai.ch
SUMMARY:ACSA Stage Martigny (VS)
DESCRIPTION:Infos folgen noch!
URL:https://www.aikikai.ch/mitglieder-event/acsa-stage-martigny-vs
LOCATION:BS
CATEGORIES:ACSA-Events
ATTACH;FMTTYPE=image/png:https://www.aikikai.ch/wp-content/uploads/2024/05/ACSA-Logo-klein-e1723986431189.png
END:VEVENT
END:VCALENDAR