BEGIN:VCALENDAR
VERSION:2.0
PRODID:-// - ECPv6.15.20//NONSGML v1.0//EN
CALSCALE:GREGORIAN
METHOD:PUBLISH
X-ORIGINAL-URL:https://www.aikikai.ch
X-WR-CALDESC:Veranstaltungen für 
REFRESH-INTERVAL;VALUE=DURATION:PT1H
X-Robots-Tag:noindex
X-PUBLISHED-TTL:PT1H
BEGIN:VTIMEZONE
TZID:UTC
BEGIN:STANDARD
TZOFFSETFROM:+0000
TZOFFSETTO:+0000
TZNAME:UTC
DTSTART:20240101T000000
END:STANDARD
END:VTIMEZONE
BEGIN:VEVENT
DTSTART;TZID=UTC:20250906T091500
DTEND;TZID=UTC:20250907T130000
DTSTAMP:20260424T120703
CREATED:20240611T163641Z
LAST-MODIFIED:20250701T124758Z
UID:3288-1757150100-1757250000@www.aikikai.ch
SUMMARY:Internationales Aikido Seminar mit HOMBU DOJO-CHO UESHIBA Mitsuteru 6.-7.09.2025 Neuchâtel
DESCRIPTION:mit\nHombu-Dojo-cho (Waka Sensei)\, Mitsuteru Ueshiba\n \nVideo_1\nVideo_2\nProgramm Download Deutsch\nProgramm Download Französisch\nweitere Informationen betreffend Unterkunft und Anfahrt: Deutsch / Französisch\nAdresse: Riveraine\, Plage des Jeunes-Rives\, 2000 Neuchâtel\, Schweiz.\nHier anmelden:\n \nVeranstaltet von\n\n 
URL:https://www.aikikai.ch/mitglieder-event/umbrella-seminar-2025
LOCATION:Sport Center Riveraine\, Route du Littoral 1\, Neuchatel\, 2000\, Switzerland
CATEGORIES:Internationale Events
ATTACH;FMTTYPE=image/png:https://www.aikikai.ch/wp-content/uploads/2024/06/Detail-Bild-Kalender-e1725531812159.png
END:VEVENT
END:VCALENDAR