BEGIN:VCALENDAR
VERSION:2.0
PRODID:-// - ECPv6.15.20//NONSGML v1.0//EN
CALSCALE:GREGORIAN
METHOD:PUBLISH
X-ORIGINAL-URL:https://www.aikikai.ch
X-WR-CALDESC:Veranstaltungen für 
REFRESH-INTERVAL;VALUE=DURATION:PT1H
X-Robots-Tag:noindex
X-PUBLISHED-TTL:PT1H
BEGIN:VTIMEZONE
TZID:UTC
BEGIN:STANDARD
TZOFFSETFROM:+0000
TZOFFSETTO:+0000
TZNAME:UTC
DTSTART:20240101T000000
END:STANDARD
END:VTIMEZONE
BEGIN:VEVENT
DTSTART;VALUE=DATE:20250118
DTEND;VALUE=DATE:20250120
DTSTAMP:20260425T183125
CREATED:20240201T140815Z
LAST-MODIFIED:20241202T150128Z
UID:1843-1737158400-1737331199@www.aikikai.ch
SUMMARY:ACSA Stage Wald
DESCRIPTION:mit/avec\nUrs Wilhelm Sensei\, 6. Dan\nMilena Wayllany\, 5. Dan\nChris Langer\, 4. Dan\nBitte JO + BOKKEN mitnehmen. / Veuillez emporter Jo et Bokken.\nDer Stage ist für alle ACSA-Mitglieder kostenlos. / Ce stage est gratuit pour tous les membres de l’ACSA.\nAikidokas ohne ACSA Lizenz bezahlen CHF 30.–. / Aïkidokas sans licence ACSA payent CHF 30.–.\nACSA-Mitglieder bitte den ACSA-Ausweis nicht vergessen. / Le membres ACSA ne pas oublier la licence ACSA. \nProgramm download\n 
URL:https://www.aikikai.ch/mitglieder-event/acsa-stage-wald
LOCATION:Wald\, Bachtelstrasse 32\, Wald ZH\, 8636\, Switzerland
CATEGORIES:ACSA-Events
ATTACH;FMTTYPE=image/png:https://www.aikikai.ch/wp-content/uploads/2023/08/logoHD-e1710698871226.png
END:VEVENT
END:VCALENDAR