BEGIN:VCALENDAR
VERSION:2.0
PRODID:-// - ECPv6.15.20//NONSGML v1.0//EN
CALSCALE:GREGORIAN
METHOD:PUBLISH
X-ORIGINAL-URL:https://www.aikikai.ch
X-WR-CALDESC:Veranstaltungen für 
REFRESH-INTERVAL;VALUE=DURATION:PT1H
X-Robots-Tag:noindex
X-PUBLISHED-TTL:PT1H
BEGIN:VTIMEZONE
TZID:UTC
BEGIN:STANDARD
TZOFFSETFROM:+0000
TZOFFSETTO:+0000
TZNAME:UTC
DTSTART:20230101T000000
END:STANDARD
END:VTIMEZONE
BEGIN:VEVENT
DTSTART;TZID=UTC:20241109T100000
DTEND;TZID=UTC:20241109T130000
DTSTAMP:20260425T165954
CREATED:20240906T115231Z
LAST-MODIFIED:20240906T115313Z
UID:4209-1731146400-1731157200@www.aikikai.ch
SUMMARY:Bokken und Jo Grundlagen
DESCRIPTION:Bokken und Jo Grundlagen \n \nOrt: Aikido Schule Bern\nZeit: 10.00 – 13.00 Uhr \nDer Stage ist für Alle offen.\nDie Trainings sind von der Basisstufe bis zu den Fortgeschrittenen entsprechend aufgebaut.\nKUMI Tachi und KUMI Jo
URL:https://www.aikikai.ch/mitglieder-event/bokken-und-jo-grundlagen
LOCATION:Aikido Schule Bern\, Wylerringstrasse 36\, Bern\, Bern\, 3014\, Switzerland
CATEGORIES:Mitglieder-Events
ATTACH;FMTTYPE=image/png:https://www.aikikai.ch/wp-content/uploads/2024/09/Logo.png
ORGANIZER;CN="Aikido Schule Bern":MAILTO:info@aikidoschulebern.ch
END:VEVENT
END:VCALENDAR