BEGIN:VCALENDAR
VERSION:2.0
PRODID:-// - ECPv6.15.20//NONSGML v1.0//EN
CALSCALE:GREGORIAN
METHOD:PUBLISH
X-ORIGINAL-URL:https://www.aikikai.ch
X-WR-CALDESC:Veranstaltungen für 
REFRESH-INTERVAL;VALUE=DURATION:PT1H
X-Robots-Tag:noindex
X-PUBLISHED-TTL:PT1H
BEGIN:VTIMEZONE
TZID:UTC
BEGIN:STANDARD
TZOFFSETFROM:+0000
TZOFFSETTO:+0000
TZNAME:UTC
DTSTART:20240101T000000
END:STANDARD
END:VTIMEZONE
BEGIN:VEVENT
DTSTART;VALUE=DATE:20250823
DTEND;VALUE=DATE:20250824
DTSTAMP:20260425T022435
CREATED:20250206T144138Z
LAST-MODIFIED:20250206T144138Z
UID:4923-1755907200-1755993599@www.aikikai.ch
SUMMARY:Bokken/Jo Suburi Stage in Bern
DESCRIPTION:mit:\nRenata Jocic 7. Dan\, Shihan\nDragisha Jocic 7. Dan Shihan\n\n\n\nOrt:\nAikido Schule Bern\, Wylerringstr. 36\, 3014 Bern\n\nThema:\nBokken und Jo Anwendungen\n\nUMGANG (atsukai) und INTEGRATION der Grundsuburi’s in den Partnerübungen:\nKUMI TACHI / KUMI JO\n\nWeitere Infos unter:
URL:https://www.aikikai.ch/mitglieder-event/bokken-jo-suburi-stage-in-bern-2
LOCATION:Aikido Schule Bern\, Wylerringstrasse 36\, Bern\, Bern\, 3014\, Switzerland
CATEGORIES:Mitglieder-Events
ATTACH;FMTTYPE=image/png:https://www.aikikai.ch/wp-content/uploads/2024/09/Logo.png
ORGANIZER;CN="Aikido Schule Bern":MAILTO:info@aikidoschulebern.ch
END:VEVENT
END:VCALENDAR