BEGIN:VCALENDAR
VERSION:2.0
PRODID:-// - ECPv6.15.20//NONSGML v1.0//EN
CALSCALE:GREGORIAN
METHOD:PUBLISH
X-ORIGINAL-URL:https://www.aikikai.ch
X-WR-CALDESC:Veranstaltungen für 
REFRESH-INTERVAL;VALUE=DURATION:PT1H
X-Robots-Tag:noindex
X-PUBLISHED-TTL:PT1H
BEGIN:VTIMEZONE
TZID:UTC
BEGIN:STANDARD
TZOFFSETFROM:+0000
TZOFFSETTO:+0000
TZNAME:UTC
DTSTART:20240101T000000
END:STANDARD
END:VTIMEZONE
BEGIN:VEVENT
DTSTART;VALUE=DATE:20250301
DTEND;VALUE=DATE:20250302
DTSTAMP:20260425T151907
CREATED:20250206T143837Z
LAST-MODIFIED:20250213T091956Z
UID:4891-1740787200-1740873599@www.aikikai.ch
SUMMARY:Bokken/Jo Suburi Stage in Bern
DESCRIPTION:mit:\nRenata Jocic 7. Dan\, Shihan\nDragisha Jocic 7. Dan Shihan\n\n\n\nOrt:\nAikido Schule Bern\, Wylerringstr. 36\, 3014 Bern\n\nThema:\nBokken und Jo Anwendungen\n\nUMGANG (atsukai) und INTEGRATION der Grundsuburi’s in den Partnerübungen:\nKUMI TACHI / KUMI JO\n\nWeitere Infos unter:
URL:https://www.aikikai.ch/mitglieder-event/bokken-jo-suburi-stage-in-bern
LOCATION:Aikido Schule Bern\, Wylerringstrasse 36\, Bern\, Bern\, 3014\, Switzerland
CATEGORIES:Mitglieder-Events
ATTACH;FMTTYPE=image/jpeg:https://www.aikikai.ch/wp-content/uploads/2025/02/suburi-maerz-25-600.jpg
ORGANIZER;CN="Aikido Schule Bern":MAILTO:info@aikidoschulebern.ch
END:VEVENT
END:VCALENDAR