BEGIN:VCALENDAR
VERSION:2.0
PRODID:-// - ECPv6.15.20//NONSGML v1.0//EN
CALSCALE:GREGORIAN
METHOD:PUBLISH
X-ORIGINAL-URL:https://www.aikikai.ch
X-WR-CALDESC:Veranstaltungen für 
REFRESH-INTERVAL;VALUE=DURATION:PT1H
X-Robots-Tag:noindex
X-PUBLISHED-TTL:PT1H
BEGIN:VTIMEZONE
TZID:UTC
BEGIN:STANDARD
TZOFFSETFROM:+0000
TZOFFSETTO:+0000
TZNAME:UTC
DTSTART:20250101T000000
END:STANDARD
END:VTIMEZONE
BEGIN:VEVENT
DTSTART;VALUE=DATE:20260613
DTEND;VALUE=DATE:20260614
DTSTAMP:20260421T181523
CREATED:20250922T124440Z
LAST-MODIFIED:20250922T124440Z
UID:5510-1781308800-1781395199@www.aikikai.ch
SUMMARY:Kinder-/Jugendstage ACSA
DESCRIPTION:Infos folgen noch!
URL:https://www.aikikai.ch/mitglieder-event/kinder-jugendstage-acsa
CATEGORIES:ACSA-Events
ATTACH;FMTTYPE=image/png:https://www.aikikai.ch/wp-content/uploads/2024/05/ACSA-Logo-klein-e1723986431189.png
END:VEVENT
BEGIN:VEVENT
DTSTART;TZID=UTC:20260613T133000
DTEND;TZID=UTC:20260613T163000
DTSTAMP:20260421T181523
CREATED:20260114T102348Z
LAST-MODIFIED:20260114T142411Z
UID:5756-1781357400-1781368200@www.aikikai.ch
SUMMARY:Stage in Breitenbach mit Lisa Heiz\, 6. Dan - anschliessenden Prüfungen für Erwachsene
DESCRIPTION:Seit vielen Jahren pflegen wir fruchtbare Zusammenarbeit und Kontakte mit dem Aikidodojo Laufental-Thierstein und anderen befreundeten Aikidokas. \nUnsere Schulen sind seit vielen Jahren freundschaftlich verbunden. Ich freue mich sehr auf das Wiedersehen\, und den Austausch. \nFalls ihr trainierende Kinder/Jugendliche mitnehmen möchtet\, sind diese herzlich willkommen. Sie sollten mindestens 10 Jahre alt sein\, rollen und drei Stunden die Konzentration aufrecht erhalten  können- und bitte: kommt ungefähr im Verhältnis 1:2 Kinder/Jugendliche mit Erwachsenen. Der Stage ist nicht als Kinder-/Jugendstage konzipiert\, sondern als Generationenmix. \nIm Anschluss an den Stage finden Prüfungen statt und danach gehen wir gemeinsam Essen. Bitte bei der Anmeldung vermerken: mit oder ohne Abendessen \nProgramm Download
URL:https://www.aikikai.ch/mitglieder-event/stage-in-breitenbach-mit-lisa-heiz-_-anschliessenden-pruefungen-fuer-erwachsene-3
LOCATION:Dojo Laufental-Thierstein Grienackerweg 13\, 4226 Breitenbach\, Grienackerweg 13\, Breitenbach\, 4226\, Switzerland
CATEGORIES:Mitglieder-Events
ATTACH;FMTTYPE=image/png:https://www.aikikai.ch/wp-content/uploads/2025/02/Basel_schmal-e1739009527432.png
ORGANIZER;CN="Aikidoschule SanShinKai Basel":MAILTO:info@aikidoschule-sanshinkai-basel.ch
END:VEVENT
BEGIN:VEVENT
DTSTART;TZID=UTC:20260620T100000
DTEND;TZID=UTC:20260620T170000
DTSTAMP:20260421T181523
CREATED:20260128T125054Z
LAST-MODIFIED:20260128T125054Z
UID:5916-1781949600-1781974800@www.aikikai.ch
SUMMARY:Stage in Singen (D)
DESCRIPTION:Stage in Singen\nmit Fritz Heuscher\, Shihan 7. Dan\n \nInfos folgen!
URL:https://www.aikikai.ch/mitglieder-event/stage-in-singen-d
LOCATION:Aikido Aikikai Schule Singen\, Freiburger Str. 8\, Singen\, Baden-Württemberg\, 78224\, Germany
CATEGORIES:Mitglieder-Events
ATTACH;FMTTYPE=image/jpeg:https://www.aikikai.ch/wp-content/uploads/2026/01/Logo-Singen.jpg
END:VEVENT
BEGIN:VEVENT
DTSTART;TZID=UTC:20260621T100000
DTEND;TZID=UTC:20260621T130000
DTSTAMP:20260421T181523
CREATED:20260114T101932Z
LAST-MODIFIED:20260114T141803Z
UID:5726-1782036000-1782046800@www.aikikai.ch
SUMMARY:Genkikai _ Japanisches Yoga
DESCRIPTION:Genkikai verbindet Meditation\, Atmung und sanfte Gymnastikformen.\nWir entspannen und erfrischen uns. Spezifische Atemübungen helfen uns\, unsere Mitte zu spüren – die Stille der Meditation unterstützt uns darin\, unsere Gefühle\, Gedanken und unseren Körper achtsamer wahrzunehmen.\nUnser Körper\, unsere Seele und unser Geist erhalten im Genkikai Zeit\, um zur Ruhe zu kommen und unseren Alltag loszulassen. \nEs sind keine Vorkenntnisse nötig. Neue Gesichter sind herzlichst willkommen. \nMitnehmen:\nBequeme\, warme Trainingsbekleidung\, Socken\, saubere Badeschläppli oder Hausschuhe\, Sitzkissen (oder Handtücher\, auf denen ihr bequem sitzen könnt\, ca 20-30 cm hoch) \nFr 40.- in bar und idealerweise in kleinen Noten. \nBitte bis am Mittwoch vorher per E-Mail anmelden.\nelisabeth.heiz@gmx.ch\nProgramm zum Downloaden
URL:https://www.aikikai.ch/mitglieder-event/genkikai-_-japanisches-yoga-18
LOCATION:Aikidoschule SanShinKai Basel\, Hagentalerstrasse 49\, Basel\, BS\, 4055\, Schweiz
CATEGORIES:Mitglieder-Events
ATTACH;FMTTYPE=image/png:https://www.aikikai.ch/wp-content/uploads/2024/08/Genkikai.png
ORGANIZER;CN="Aikidoschule SanShinKai Basel":MAILTO:info@aikidoschule-sanshinkai-basel.ch
END:VEVENT
BEGIN:VEVENT
DTSTART;TZID=UTC:20260627T133000
DTEND;TZID=UTC:20260627T163000
DTSTAMP:20260421T181523
CREATED:20260114T103756Z
LAST-MODIFIED:20260121T132822Z
UID:5769-1782567000-1782577800@www.aikikai.ch
SUMMARY:DLC Iaïdo Tameshi-giri
DESCRIPTION:Tameshi-Giri\nSchnitt-Test mit Katana\nmit Jürg Kohler\, 3. Dan Aikikai\n \nProgramm: 13:30 bis 16:30 Uhr\n17:00 Apéro\nBekleidung: Keiko Gi und/oder Hakama\nPreis: CHF 20.00/Tameshi (max. 2 Stk./Teilnehmer)\nMitbringen: Bokken\, wenn vorh. Iaito und Shinken\nZum Schneiden werden 3 geschliffene Shinken\n(Katana) zur Verfügung gestellt. \nTameshi = in Wasser getränkte\, gerollte Reisstrohmatten \nProgramm download \n 
URL:https://www.aikikai.ch/mitglieder-event/dlc-iaido-tameshi-giri-3
LOCATION:Dojo La Cézille\, Rue de la Cézille 18\, 1269 Bassins VD\, Waadt\, 1269\, Schweiz
CATEGORIES:Mitglieder-Events
ATTACH;FMTTYPE=image/png:https://www.aikikai.ch/wp-content/uploads/2025/01/Logo.png
ORGANIZER;CN="DLC Dojo La C%C3%A9zille":MAILTO:juerg.kohler@bluewin.ch
END:VEVENT
END:VCALENDAR