BEGIN:VCALENDAR
VERSION:2.0
PRODID:-// - ECPv6.15.20//NONSGML v1.0//EN
CALSCALE:GREGORIAN
METHOD:PUBLISH
X-ORIGINAL-URL:https://www.aikikai.ch
X-WR-CALDESC:Veranstaltungen für 
REFRESH-INTERVAL;VALUE=DURATION:PT1H
X-Robots-Tag:noindex
X-PUBLISHED-TTL:PT1H
BEGIN:VTIMEZONE
TZID:UTC
BEGIN:STANDARD
TZOFFSETFROM:+0000
TZOFFSETTO:+0000
TZNAME:UTC
DTSTART:20240101T000000
END:STANDARD
END:VTIMEZONE
BEGIN:VEVENT
DTSTART;TZID=UTC:20251206T100000
DTEND;TZID=UTC:20251206T160000
DTSTAMP:20260422T070646
CREATED:20241030T131046Z
LAST-MODIFIED:20250828T151925Z
UID:4568-1765015200-1765036800@www.aikikai.ch
SUMMARY:ACSA Yudansha Stage St. Gallen
DESCRIPTION:mit:\nJean-Claude Aegerter\, Shihan 7. Dan\nUrs Wilhelm\, 6. Dan \n10.00 – 12.00 h Training/Entraînement\n12.00 – 14.00 h Pause/Pause\n14.00 – 16.00 h Training/Entraînement\n16.00 h Prüfungen / examens\nAnschliessend/après Apéro \nProgramm download\nBitte Jo + Bokken mitnehmen. / Veuillez emporter Jo + Bokken.\nAlle 1. Kyu sind herzlich eingeladen. / Les 1erer Kyu sont cordialement invités.\nDer Stage ist für alle ACSA- Mitglieder kostenlos. / Ce stage est gratuit pour tous les membres de l’ACSA.\nAikidokas ohne ACSA Lizenz bezahlen CHF 30.– / Aïkidokas sans licence ACSA payent CHF 30.–\nACSA-Mitglieder bitte den ACSA-Ausweis nicht vergessen. Les membres ACSA ne pas oublier la licence ACSA.
URL:https://www.aikikai.ch/mitglieder-event/acsa-yudansha-stage-4
CATEGORIES:ACSA-Events
ATTACH;FMTTYPE=image/png:https://www.aikikai.ch/wp-content/uploads/2023/08/logoHD-e1710698871226.png
END:VEVENT
BEGIN:VEVENT
DTSTART;TZID=UTC:20251214T100000
DTEND;TZID=UTC:20251214T130000
DTSTAMP:20260422T070646
CREATED:20250206T140350Z
LAST-MODIFIED:20250206T140350Z
UID:4871-1765706400-1765717200@www.aikikai.ch
SUMMARY:Genkikai _ Japanisches Yoga
DESCRIPTION:Genkikai verbindet Meditation\, Atmung und sanfte Gymnastikformen.\nWir entspannen und erfrischen uns. Spezifische Atemübungen helfen uns\, unsere Mitte zu spüren – die Stille der Meditation unterstützt uns darin\, unsere Gefühle\, Gedanken und unseren Körper achtsamer wahrzunehmen.\nUnser Körper\, unsere Seele und unser Geist erhalten im Genkikai Zeit\, um zur Ruhe zu kommen und unseren Alltag loszulassen. \nEs sind keine Vorkenntnisse nötig. Neue Gesichter sind herzlichst willkommen. \nMitnehmen:\nBequeme\, warme Trainingsbekleidung\, Socken\, saubere Badeschläppli oder Hausschuhe\, Sitzkissen (oder Handtücher\, auf denen ihr bequem sitzen könnt\, ca 20-30 cm hoch) \nFr 40.- in bar und idealerweise in kleinen Noten. \nBitte bis am Mittwoch vorher per E-Mail anmelden.\nelisabeth.heiz@gmx.ch\nProgramm Download
URL:https://www.aikikai.ch/mitglieder-event/genkikai-_-japanisches-yoga-7
LOCATION:Aikidoschule SanShinKai Basel\, Hagentalerstrasse 49\, Basel\, BS\, 4055\, Schweiz
CATEGORIES:Mitglieder-Events
ATTACH;FMTTYPE=image/png:https://www.aikikai.ch/wp-content/uploads/2024/08/Genkikai.png
ORGANIZER;CN="Aikidoschule SanShinKai Basel":MAILTO:info@aikidoschule-sanshinkai-basel.ch
END:VEVENT
BEGIN:VEVENT
DTSTART;TZID=UTC:20251219T184500
DTEND;TZID=UTC:20251220T190000
DTSTAMP:20260422T070646
CREATED:20250310T081506Z
LAST-MODIFIED:20250622T125926Z
UID:5008-1766169900-1766257200@www.aikikai.ch
SUMMARY:24. AIKIDO JAHRESEND-STAGE
DESCRIPTION:19.12 – 20.12.2025\nmit:\nShihan Fritz Heuscher\, 7.Dan Aikikai\nShihan Ugo Montevecchi\, 6. Dan Aikikai\, aus San Marino \n  \nfür Anfänger\, Kyu- und Dan-Grade \nStagekosten: 70.- CHF \nDownload Programm
URL:https://www.aikikai.ch/mitglieder-event/24-aikido-jahresend-stage
LOCATION:4900 Langenthal\, Schweiz\, Gaswerkstrasse 66A\, Langenthal\, 4900\, Switzerland
CATEGORIES:Mitglieder-Events
ATTACH;FMTTYPE=image/png:https://www.aikikai.ch/wp-content/uploads/2024/03/Logo.png
ORGANIZER;CN="Aikido Schule Langenthal":MAILTO:info@aikido-langenthal.ch
END:VEVENT
BEGIN:VEVENT
DTSTART;TZID=UTC:20251226T090000
DTEND;TZID=UTC:20251228T120000
DTSTAMP:20260422T070646
CREATED:20250504T170456Z
LAST-MODIFIED:20250504T172014Z
UID:5099-1766739600-1766923200@www.aikikai.ch
SUMMARY:Stage über die Festtage (26. - 28. Dezember)
DESCRIPTION:Mit René Etter (6. Dan) und Milena Wallany (5. Dan) \nDezember 26. Freitag 09:00 – 12:00 Uhr\nDezember 27. Samstag 09:00 – 12:00 Uhr\nDezember 27. Sonntag 08:00 – 12:00 Uhr \nPreis: CHF 50.- ganzer Stage\, CHF 20.- halber Tag für Leute\, die nicht Aktivmitglieder des Aikikai Basel sind. \nDetails auf www.aikikaibs.ch
URL:https://www.aikikai.ch/mitglieder-event/stage-ueber-die-festtage-3
LOCATION:Aikikai Basel\, Horburgstrasse 22\, Basel\, 4057\, Schweiz
CATEGORIES:Mitglieder-Events
ATTACH;FMTTYPE=image/png:https://www.aikikai.ch/wp-content/uploads/2024/03/Aikikai-Basel-e1711570725888.png
END:VEVENT
END:VCALENDAR