BEGIN:VCALENDAR
VERSION:2.0
PRODID:-// - ECPv6.15.20//NONSGML v1.0//EN
CALSCALE:GREGORIAN
METHOD:PUBLISH
X-ORIGINAL-URL:https://www.aikikai.ch
X-WR-CALDESC:Veranstaltungen für 
REFRESH-INTERVAL;VALUE=DURATION:PT1H
X-Robots-Tag:noindex
X-PUBLISHED-TTL:PT1H
BEGIN:VTIMEZONE
TZID:UTC
BEGIN:STANDARD
TZOFFSETFROM:+0000
TZOFFSETTO:+0000
TZNAME:UTC
DTSTART:20240101T000000
END:STANDARD
END:VTIMEZONE
BEGIN:VEVENT
DTSTART;VALUE=DATE:20251018
DTEND;VALUE=DATE:20251020
DTSTAMP:20260424T014551
CREATED:20240201T141659Z
LAST-MODIFIED:20250929T093234Z
UID:1850-1760745600-1760918399@www.aikikai.ch
SUMMARY:ACSA Stage Breitenbach
DESCRIPTION:mit:\nRenata Jocic\, Shihan 7. Dan \n\nProgrammdownload\nBitte JO + BOKKEN mitnehmen. / Veuillez emporter Jo et Bokken.\nDer Stage ist für alle ACSA-Mitglieder kostenlos. / Ce stage est gratuit pour tous les membres de l’ACSA.\nAikidokas ohne ACSA Lizenz bezahlen CHF 30.–. / Aïkidokas sans licence ACSA payent CHF 30.–.\nACSA-Mitglieder bitte den ACSA-Ausweis nicht vergessen. / Les membres ACSA ne pas oublier la licence ACSA s.v.p. \nOrganisation / Auskünfte / Renseignements:\nMarcel Humair\, 077 415 21 24
URL:https://www.aikikai.ch/mitglieder-event/acsa-stage-2
LOCATION:Breitenbach\, Im Grien\, Am Grienackerweg 13\, Breitenbach (SO)\, Solothurn\, 4426\, Switzerland
CATEGORIES:ACSA-Events
ATTACH;FMTTYPE=image/png:https://www.aikikai.ch/wp-content/uploads/2023/08/logoHD-e1710698871226.png
END:VEVENT
BEGIN:VEVENT
DTSTART;TZID=UTC:20251025T100000
DTEND;TZID=UTC:20251026T123000
DTSTAMP:20260424T014551
CREATED:20250528T064114Z
LAST-MODIFIED:20250604T081014Z
UID:5242-1761386400-1761481800@www.aikikai.ch
SUMMARY:Aikidoschule St. Gallen & friends in Rorschach (SG)
DESCRIPTION:Die Aikidoschule St. Gallen veranstaltet in Rorschach  den 5. Gedenkstage für Renato\, um gemeinsam zu trainieren\, sich auszutauschen\, zusammen zu sein. Der Stage wird jedes Mal von mehreren Trainingsleitenden durchgeführt. (siehe Ausschreibung). \nProgramm downloaden
URL:https://www.aikikai.ch/mitglieder-event/aikidoschule-st-gallen-friends-in-rorschach-sg
LOCATION:Judo und Ju-Jitsu Club Rorschach\, Burghaldenstr. 11\, Rorschach\, SG\, 9400\, Schweiz
CATEGORIES:Mitglieder-Events
ATTACH;FMTTYPE=image/jpeg:https://www.aikikai.ch/wp-content/uploads/2025/05/Renato.jpg
ORGANIZER;CN="Aikidoschule St. Gallen":MAILTO:a.thoma@aikido-sg.ch
END:VEVENT
BEGIN:VEVENT
DTSTART;TZID=UTC:20251031T184500
DTEND;TZID=UTC:20251101T190000
DTSTAMP:20260424T014551
CREATED:20250310T080537Z
LAST-MODIFIED:20250622T125400Z
UID:5004-1761936300-1762023600@www.aikikai.ch
SUMMARY:21. AIKIDO HERBST-STAGE in Langenthal
DESCRIPTION:31.10. – 01.11.2025\nmit:\nShihan Fritz Heuscher\, 7.Dan\nRené Isenring 5. Dan\nSonja Eberhard 5. Dan \nfür Anfänger\, Kyu- und Dan-Grade \nStagekosten: 70.- CHF \nDownload Programm
URL:https://www.aikikai.ch/mitglieder-event/21-aikido-herbst-stage-in-langenthal
LOCATION:4900 Langenthal\, Schweiz\, Gaswerkstrasse 66A\, Langenthal\, 4900\, Switzerland
CATEGORIES:Mitglieder-Events
ATTACH;FMTTYPE=image/png:https://www.aikikai.ch/wp-content/uploads/2024/03/Logo.png
ORGANIZER;CN="Aikido Schule Langenthal":MAILTO:info@aikido-langenthal.ch
END:VEVENT
END:VCALENDAR