BEGIN:VCALENDAR
VERSION:2.0
PRODID:-// - ECPv6.15.20//NONSGML v1.0//EN
CALSCALE:GREGORIAN
METHOD:PUBLISH
X-ORIGINAL-URL:https://www.aikikai.ch
X-WR-CALDESC:Veranstaltungen für 
REFRESH-INTERVAL;VALUE=DURATION:PT1H
X-Robots-Tag:noindex
X-PUBLISHED-TTL:PT1H
BEGIN:VTIMEZONE
TZID:UTC
BEGIN:STANDARD
TZOFFSETFROM:+0000
TZOFFSETTO:+0000
TZNAME:UTC
DTSTART:20250101T000000
END:STANDARD
END:VTIMEZONE
BEGIN:VEVENT
DTSTART;TZID=UTC:20260627T133000
DTEND;TZID=UTC:20260627T163000
DTSTAMP:20260421T214903
CREATED:20260114T103756Z
LAST-MODIFIED:20260121T132822Z
UID:5769-1782567000-1782577800@www.aikikai.ch
SUMMARY:DLC Iaïdo Tameshi-giri
DESCRIPTION:Tameshi-Giri\nSchnitt-Test mit Katana\nmit Jürg Kohler\, 3. Dan Aikikai\n \nProgramm: 13:30 bis 16:30 Uhr\n17:00 Apéro\nBekleidung: Keiko Gi und/oder Hakama\nPreis: CHF 20.00/Tameshi (max. 2 Stk./Teilnehmer)\nMitbringen: Bokken\, wenn vorh. Iaito und Shinken\nZum Schneiden werden 3 geschliffene Shinken\n(Katana) zur Verfügung gestellt. \nTameshi = in Wasser getränkte\, gerollte Reisstrohmatten \nProgramm download \n 
URL:https://www.aikikai.ch/mitglieder-event/dlc-iaido-tameshi-giri-3
LOCATION:Dojo La Cézille\, Rue de la Cézille 18\, 1269 Bassins VD\, Waadt\, 1269\, Schweiz
CATEGORIES:Mitglieder-Events
ATTACH;FMTTYPE=image/png:https://www.aikikai.ch/wp-content/uploads/2025/01/Logo.png
ORGANIZER;CN="DLC Dojo La C%C3%A9zille":MAILTO:juerg.kohler@bluewin.ch
END:VEVENT
END:VCALENDAR