BEGIN:VCALENDAR
VERSION:2.0
PRODID:-// - ECPv6.15.20//NONSGML v1.0//EN
CALSCALE:GREGORIAN
METHOD:PUBLISH
X-ORIGINAL-URL:https://www.aikikai.ch
X-WR-CALDESC:Veranstaltungen für 
REFRESH-INTERVAL;VALUE=DURATION:PT1H
X-Robots-Tag:noindex
X-PUBLISHED-TTL:PT1H
BEGIN:VTIMEZONE
TZID:UTC
BEGIN:STANDARD
TZOFFSETFROM:+0000
TZOFFSETTO:+0000
TZNAME:UTC
DTSTART:20250101T000000
END:STANDARD
END:VTIMEZONE
BEGIN:VEVENT
DTSTART;TZID=UTC:20260620T100000
DTEND;TZID=UTC:20260620T170000
DTSTAMP:20260421T214106
CREATED:20260128T125054Z
LAST-MODIFIED:20260128T125054Z
UID:5916-1781949600-1781974800@www.aikikai.ch
SUMMARY:Stage in Singen (D)
DESCRIPTION:Stage in Singen\nmit Fritz Heuscher\, Shihan 7. Dan\n \nInfos folgen!
URL:https://www.aikikai.ch/mitglieder-event/stage-in-singen-d
LOCATION:Aikido Aikikai Schule Singen\, Freiburger Str. 8\, Singen\, Baden-Württemberg\, 78224\, Germany
CATEGORIES:Mitglieder-Events
ATTACH;FMTTYPE=image/jpeg:https://www.aikikai.ch/wp-content/uploads/2026/01/Logo-Singen.jpg
END:VEVENT
END:VCALENDAR