BEGIN:VCALENDAR
VERSION:2.0
PRODID:-// - ECPv6.15.20//NONSGML v1.0//EN
CALSCALE:GREGORIAN
METHOD:PUBLISH
X-ORIGINAL-URL:https://www.aikikai.ch
X-WR-CALDESC:Veranstaltungen für 
REFRESH-INTERVAL;VALUE=DURATION:PT1H
X-Robots-Tag:noindex
X-PUBLISHED-TTL:PT1H
BEGIN:VTIMEZONE
TZID:UTC
BEGIN:STANDARD
TZOFFSETFROM:+0000
TZOFFSETTO:+0000
TZNAME:UTC
DTSTART:20250101T000000
END:STANDARD
END:VTIMEZONE
BEGIN:VEVENT
DTSTART;TZID=UTC:20260509T090000
DTEND;TZID=UTC:20260509T120000
DTSTAMP:20260421T175934
CREATED:20251229T124134Z
LAST-MODIFIED:20251229T191923Z
UID:5652-1778317200-1778328000@www.aikikai.ch
SUMMARY:Aikido Stage in Ostermundigen am 9. Mai 2026
DESCRIPTION:mit:\nThomas Moser Shidoin 5. Dan\nSandra Bernaschina Moser Shidoin 4. Dan\n\nOrt: Aikido Dojo Ostermundigen\, Grubenstrasse 6\, 3072 Ostermundigen \nThema: Prüfungsprogramme alle Stufen (Kinder und Erwachsene) \nKosten Stage: Erwachsene CHF 15.00 Kinder CHF Kostenlos \nTrainingszeit:  von 09.00 Uhr bis 12.00 Uhr \nTeilnehmerzahl: ist auf 20  beschränkt. \nAnmeldung senden an: info@aikidoschule-ostermundigen.ch \nProgramm Download
URL:https://www.aikikai.ch/mitglieder-event/aikido-stage-in-ostermundigen-am-9-mai-2026
LOCATION:Aikido Dojo Ostermundigen\, Grubenstrasse 6\, 3072 Ostermundigen\, Grubenstrasse 6\, Ostermundigen\, 3072\, Schweiz
CATEGORIES:Mitglieder-Events
ATTACH;FMTTYPE=image/png:https://www.aikikai.ch/wp-content/uploads/2025/12/Logo-Aikidoschulen-Ost-Zoll-Lyss.png
END:VEVENT
BEGIN:VEVENT
DTSTART;TZID=UTC:20260509T140000
DTEND;TZID=UTC:20260509T170000
DTSTAMP:20260421T175934
CREATED:20260106T102835Z
LAST-MODIFIED:20260112T155420Z
UID:5683-1778335200-1778346000@www.aikikai.ch
SUMMARY:Delegiertenversammlung / Assemblée des délégués 09.05.2026\, Bern
DESCRIPTION:Infos kommen noch!
URL:https://www.aikikai.ch/mitglieder-event/delegiertenversammlung-09-05-2026-bern
LOCATION:Bern\, Zeughausstrasse 41\, Bern\, 3001\, Switzerland
CATEGORIES:ACSA-Events
ATTACH;FMTTYPE=image/png:https://www.aikikai.ch/wp-content/uploads/2024/05/ACSA-Logo-klein-e1723986431189.png
END:VEVENT
END:VCALENDAR