BEGIN:VCALENDAR
VERSION:2.0
PRODID:-// - ECPv6.15.20//NONSGML v1.0//EN
CALSCALE:GREGORIAN
METHOD:PUBLISH
X-ORIGINAL-URL:https://www.aikikai.ch
X-WR-CALDESC:Veranstaltungen für 
REFRESH-INTERVAL;VALUE=DURATION:PT1H
X-Robots-Tag:noindex
X-PUBLISHED-TTL:PT1H
BEGIN:VTIMEZONE
TZID:UTC
BEGIN:STANDARD
TZOFFSETFROM:+0000
TZOFFSETTO:+0000
TZNAME:UTC
DTSTART:20250101T000000
END:STANDARD
END:VTIMEZONE
BEGIN:VEVENT
DTSTART;TZID=UTC:20260307T100000
DTEND;TZID=UTC:20260307T160000
DTSTAMP:20260421T180245
CREATED:20260121T092513Z
LAST-MODIFIED:20260302T083748Z
UID:5884-1772877600-1772899200@www.aikikai.ch
SUMMARY:Aikido Stage Appenzell am 07.03.2026\, mit Fritz Heuscher Shihan 7. Dan
DESCRIPTION:Aikido Stage Appenzell am 07.03.2026\nmit Fritz Heuscher\, Shihan 7. Dan \nOrt:\nAikido Appenzell\, Sportanlage Schaies\nWeissbadstrasse 67\n9050 Appenzell \nProgramm:\n10.00 – 12.00 Uhr Aikido Training\n12.15 – 14.00 Uhr Mittagspause\n14.30 – 16.00 Uhr Aikido Training\, Schwerpunkt Prüfungsvorbereitungen \nKosten:\nganzer Stage: CHF 30.-\nTeilnahme nur Vormittag oder nur Nachmittag: CHF 15.-\nKosten Mittagessen individuell \nAnmeldung:\nFür Platzreservation Mittagessen im Restaurant bitte aus\norganisatorischen Gründen anmelden bis Mittwoch 04.03.2026 an:\nerika.bischofberger@aikido-appenzell.ch \n(Teilnahme ohne Mittagessen ebenfalls möglich) \nProgramm Download
URL:https://www.aikikai.ch/mitglieder-event/aikido-stage-appenzell-am-07-03-2026-mit-fritz-heuscher-shihan-7-dan
LOCATION:Aikido Appenzell\, Weissbadstrasse 67\, Appenzell\, Appenzell Innerrhoden\, 9050\, Schweiz
CATEGORIES:Mitglieder-Events
ATTACH;FMTTYPE=image/png:https://www.aikikai.ch/wp-content/uploads/2024/05/Aikido-Appenzell-Logo.png
END:VEVENT
BEGIN:VEVENT
DTSTART;TZID=UTC:20260307T100000
DTEND;TZID=UTC:20260307T160000
DTSTAMP:20260421T180245
CREATED:20260128T121145Z
LAST-MODIFIED:20260128T121145Z
UID:5894-1772877600-1772899200@www.aikikai.ch
SUMMARY:Bokken/Jo SUBURI-Stage
DESCRIPTION:Bokken und Jo Anwendungen: UMGANG (atsukai) und INTEGRATION der Grundsuburi’s in den Partnerübungen: KUMI TACHI / KUMI JO\nLEITUNG: Renata Jocic Shihan\, 7. Dan\n \nTrainingszeiten\nSamstag: 10.00 – 12.30 Uhr / 13.30 – 16.00 Uhr\nTeilnehmerInnen\nmax.  20 Teilnehmende\, offen für Alle mit Bokken/Jo Erfahrung!\nOrt\nAikido Schule Bern\, Wylerringstrasse 36\, 3014 Bern
URL:https://www.aikikai.ch/mitglieder-event/bokken-jo-suburi-stage
LOCATION:Aikido Schule Bern\, Wylerringstrasse 36\, Bern\, Bern\, 3014\, Switzerland
CATEGORIES:Mitglieder-Events
ATTACH;FMTTYPE=image/png:https://www.aikikai.ch/wp-content/uploads/2026/01/Bern.png
ORGANIZER;CN="Aikido Schule Bern":MAILTO:info@aikidoschulebern.ch
END:VEVENT
END:VCALENDAR