BEGIN:VCALENDAR
VERSION:2.0
PRODID:-// - ECPv6.15.20//NONSGML v1.0//EN
CALSCALE:GREGORIAN
METHOD:PUBLISH
X-ORIGINAL-URL:https://www.aikikai.ch
X-WR-CALDESC:Veranstaltungen für 
REFRESH-INTERVAL;VALUE=DURATION:PT1H
X-Robots-Tag:noindex
X-PUBLISHED-TTL:PT1H
BEGIN:VTIMEZONE
TZID:UTC
BEGIN:STANDARD
TZOFFSETFROM:+0000
TZOFFSETTO:+0000
TZNAME:UTC
DTSTART:20250101T000000
END:STANDARD
END:VTIMEZONE
BEGIN:VEVENT
DTSTART;TZID=UTC:20260117T100000
DTEND;TZID=UTC:20260117T170000
DTSTAMP:20260422T113751
CREATED:20250917T122616Z
LAST-MODIFIED:20251223T122605Z
UID:5475-1768644000-1768669200@www.aikikai.ch
SUMMARY:ACSA Stage Thun 2026
DESCRIPTION:mit:\nChristoph Müller\, 6. Dan\nPeter Weber\, 4. Dan\nOrt/Lieu: Budo Club Thun\, Sporthalle Lachen\, Gwattstrasse 25\, 3604 Thun (BE) \nBitte JO + BOKKEN mitnehmen. / Veuillez emporter Jo et Bokken.\nDer Stage ist für alle ACSA-Mitglieder kostenlos. / Ce stage est gratuit pour tous les membres de l’ACSA.\nAikidokas ohne ACSA Lizenz bezahlen CHF 30.–. / Aïkidokas sans licence ACSA payent CHF 30.–.\nACSA-Mitglieder bitte den ACSA-Ausweis nicht vergessen. / Les membres ACSA ne pas oublier la licence ACSA s.v.p. \nProgramm Download
URL:https://www.aikikai.ch/mitglieder-event/acsa-stage-thun-2026
LOCATION:Budo Club Thun\, Gwattstrasse 25\, Thun\, Bern\, 3604\, Switzerland
CATEGORIES:ACSA-Events
ATTACH;FMTTYPE=image/png:https://www.aikikai.ch/wp-content/uploads/2024/05/ACSA-Logo-klein-e1723986431189.png
END:VEVENT
END:VCALENDAR