BEGIN:VCALENDAR
VERSION:2.0
PRODID:-// - ECPv6.15.20//NONSGML v1.0//EN
CALSCALE:GREGORIAN
METHOD:PUBLISH
X-ORIGINAL-URL:https://www.aikikai.ch
X-WR-CALDESC:Veranstaltungen für 
REFRESH-INTERVAL;VALUE=DURATION:PT1H
X-Robots-Tag:noindex
X-PUBLISHED-TTL:PT1H
BEGIN:VTIMEZONE
TZID:UTC
BEGIN:STANDARD
TZOFFSETFROM:+0000
TZOFFSETTO:+0000
TZNAME:UTC
DTSTART:20240101T000000
END:STANDARD
END:VTIMEZONE
BEGIN:VEVENT
DTSTART;TZID=UTC:20251122T100000
DTEND;TZID=UTC:20251122T160000
DTSTAMP:20260423T031519
CREATED:20251104T075612Z
LAST-MODIFIED:20251104T075612Z
UID:5578-1763805600-1763827200@www.aikikai.ch
SUMMARY:Aikido Stage Appenzell am 22.11.2025\, mit Fritz Heuscher Shihan 7. Dan
DESCRIPTION:Aikido Stage in Appenzell \nmit Fritz Heuscher\, Shihan 7. Dan \n \nOrt:  \nAikido Appenzell\, Sportanlage Schaies \nWeissbadstrasse 67 \n9050 Appenzell \nProgramm: \n10.00 – 12.00 Uhr Aikido Training \n12.15 – 14.00 Uhr Mittagspause \n14.30 – 16.00 Uhr Aikido Training\, Schwerpunkt Prüfungsvorbereitungen \nKosten: \nganzer Stage: Fr. 30.- \nTeilnahme nur am Vormittag oder nur am Nachmittag: Fr. 15.- \nKosten Mittagessen individuell \nAnmeldung: \nbis 19.11.2025 an: \nerika.bischofberger@aikido-appenzell.ch
URL:https://www.aikikai.ch/mitglieder-event/aikido-stage-appenzell-am-22-11-2025-mit-fritz-heuscher-shihan-7-dan
LOCATION:Aikido Appenzell\, Weissbadstrasse 67\, Appenzell\, Appenzell Innerrhoden\, 9050\, Schweiz
CATEGORIES:Mitglieder-Events
ATTACH;FMTTYPE=image/png:https://www.aikikai.ch/wp-content/uploads/2024/05/Aikido-Appenzell-Logo.png
END:VEVENT
BEGIN:VEVENT
DTSTART;TZID=UTC:20251122T133000
DTEND;TZID=UTC:20251122T163000
DTSTAMP:20260423T031519
CREATED:20250206T145304Z
LAST-MODIFIED:20251119T095026Z
UID:4933-1763818200-1763829000@www.aikikai.ch
SUMMARY:Stage in Breitenbach mit Lisa Heiz _ anschliessenden Prüfungen für Erwachsene
DESCRIPTION:Seit vielen Jahren pflegen wir fruchtbare Zusammenarbeit und Kontakte mit dem Aikidodojo Laufental-Thierstein und anderen befreundeten Aikidokas. \nUnsere Schulen sind seit vielen Jahren freundschaftlich verbunden. Ich freue mich sehr auf das Wiedersehen\, und den Austausch. \nFalls ihr trainierende Kinder/Jugendliche mitnehmen möchtet\, sind diese herzlich willkommen. Sie sollten mindestens 10 Jahre alt sein\, rollen und drei Stunden die Konzentration aufrecht erhalten  können- und bitte: kommt ungefähr im Verhältnis 1:2 Kinder/Jugendliche mit Erwachsenen. Der Stage ist nicht als Kinder-/Jugendstage konzipiert\, sondern als Generationenmix. \nIm Anschluss an den Stage finden Prüfungen statt und danach gehen wir gemeinsam Essen. Bitte bei der Anmeldung vermerken: mit oder ohne Abendessen \nProgramm Download
URL:https://www.aikikai.ch/mitglieder-event/stage-in-breitenbach-mit-lisa-heiz-_-anschliessenden-pruefungen-fuer-erwachsene-2
LOCATION:Dojo Laufental-Thierstein Grienackerweg 13\, 4226 Breitenbach\, Grienackerweg 13\, Breitenbach\, 4226\, Switzerland
CATEGORIES:Mitglieder-Events
ATTACH;FMTTYPE=image/png:https://www.aikikai.ch/wp-content/uploads/2025/02/Basel_schmal-e1739009527432.png
ORGANIZER;CN="Aikidoschule SanShinKai Basel":MAILTO:info@aikidoschule-sanshinkai-basel.ch
END:VEVENT
END:VCALENDAR