BEGIN:VCALENDAR
VERSION:2.0
PRODID:-// - ECPv6.15.20//NONSGML v1.0//EN
CALSCALE:GREGORIAN
METHOD:PUBLISH
X-ORIGINAL-URL:https://www.aikikai.ch
X-WR-CALDESC:Veranstaltungen für 
REFRESH-INTERVAL;VALUE=DURATION:PT1H
X-Robots-Tag:noindex
X-PUBLISHED-TTL:PT1H
BEGIN:VTIMEZONE
TZID:UTC
BEGIN:STANDARD
TZOFFSETFROM:+0000
TZOFFSETTO:+0000
TZNAME:UTC
DTSTART:20240101T000000
END:STANDARD
END:VTIMEZONE
BEGIN:VEVENT
DTSTART;TZID=UTC:20251115T090000
DTEND;TZID=UTC:20251115T120000
DTSTAMP:20260423T192320
CREATED:20241218T125254Z
LAST-MODIFIED:20250115T085303Z
UID:4703-1763197200-1763208000@www.aikikai.ch
SUMMARY:Aikido Stage in Ostermundigen organisiert von der Aikidoschule Zollikofen am am 15. November 2025
DESCRIPTION:mit:\nThomas Moser Shidoin 5. Dan\nSandra Bernaschina Moser Shidoin 4. Dan\n\nOrt: Aikido Dojo Ostermundigen\, Grubenstrasse 6\, 3072 Ostermundigen \nThema: Prüfungsprogramme nach Ikeda Sensei\, alle Stufen (Kinder und Erwachsene) \nKosten Stage: Erwachsene CHF 15.00 Kinder CHF Kostenlos \nTrainingszeit:  von 09.00 Uhr bis 12.00 Uhr \nTeilnehmerzahl: ist auf 20  beschränkt. \nAnmeldung senden an: info@aikidoschule-zollikofen.ch \nJournée d´Aikido download
URL:https://www.aikikai.ch/mitglieder-event/aikido-stage-in-ostermundigen-organisiert-von-der-aikidoschule-zollikofen
LOCATION:Aikido Dojo Ostermundigen\, Grubenstrasse 6\, 3072 Ostermundigen\, Grubenstrasse 6\, Ostermundigen\, 3072\, Schweiz
CATEGORIES:Mitglieder-Events
ATTACH;FMTTYPE=image/png:https://www.aikikai.ch/wp-content/uploads/2024/06/Logo-Aikidoschulen-Ost-Zoll-Lyss.png
END:VEVENT
END:VCALENDAR