BEGIN:VCALENDAR
VERSION:2.0
PRODID:-// - ECPv6.15.20//NONSGML v1.0//EN
CALSCALE:GREGORIAN
METHOD:PUBLISH
X-ORIGINAL-URL:https://www.aikikai.ch
X-WR-CALDESC:Veranstaltungen für 
REFRESH-INTERVAL;VALUE=DURATION:PT1H
X-Robots-Tag:noindex
X-PUBLISHED-TTL:PT1H
BEGIN:VTIMEZONE
TZID:UTC
BEGIN:STANDARD
TZOFFSETFROM:+0000
TZOFFSETTO:+0000
TZNAME:UTC
DTSTART:20240101T000000
END:STANDARD
END:VTIMEZONE
BEGIN:VEVENT
DTSTART;TZID=UTC:20251108T094500
DTEND;TZID=UTC:20251108T160000
DTSTAMP:20260423T031519
CREATED:20250504T165628Z
LAST-MODIFIED:20250504T165807Z
UID:5095-1762595100-1762617600@www.aikikai.ch
SUMMARY:Tanrenkai Aikikai Basel
DESCRIPTION:Mit Trainerinnen und Trainern des Aikikai Basel\, ab 16 Uhr Kyuprüfungen. \nPreis: CHF 30.- ganzer Tag\, CHF 20.- halber Tag für Leute\, die nicht Aktivmitglieder des Aikikai Basel sind. \nDetails auf www.aikikaibs.ch
URL:https://www.aikikai.ch/mitglieder-event/tanrenkai-aikikai-basel-7
LOCATION:Aikikai Basel\, Horburgstrasse 22\, Basel\, 4057\, Schweiz
CATEGORIES:Mitglieder-Events
ATTACH;FMTTYPE=image/png:https://www.aikikai.ch/wp-content/uploads/2024/03/Aikikai-Basel-e1711570725888.png
END:VEVENT
END:VCALENDAR