BEGIN:VCALENDAR
VERSION:2.0
PRODID:-// - ECPv6.15.20//NONSGML v1.0//EN
CALSCALE:GREGORIAN
METHOD:PUBLISH
X-ORIGINAL-URL:https://www.aikikai.ch/fr
X-WR-CALDESC:Évènements pour 
REFRESH-INTERVAL;VALUE=DURATION:PT1H
X-Robots-Tag:noindex
X-PUBLISHED-TTL:PT1H
BEGIN:VTIMEZONE
TZID:UTC
BEGIN:STANDARD
TZOFFSETFROM:+0000
TZOFFSETTO:+0000
TZNAME:UTC
DTSTART:20230101T000000
END:STANDARD
END:VTIMEZONE
BEGIN:VEVENT
DTSTART;TZID=UTC:20241103T100000
DTEND;TZID=UTC:20241103T130000
DTSTAMP:20260425T142334
CREATED:20240828T080705Z
LAST-MODIFIED:20240909T084418Z
UID:4190-1730628000-1730638800@www.aikikai.ch
SUMMARY:Genkikai _ Yoga japonais
DESCRIPTION:Le Genkikai associe la méditation\, la respiration et des formes de gymnastique douce.\nNous nous détendons et nous rafraîchissons.\nDes exercices de respiration spécifiques nous aident à ressentir notre centre – le silence de la méditation nous aide à être plus attentifs à nos sentiments\, nos pensées et notre corps.\nLe Genkikai donne à notre corps\, à notre âme et à notre esprit le temps de se calmer et de lâcher prise sur notre quotidien. \nAucune connaissance préalable n’est nécessaire.\nLes nouveaux visages sont les bienvenus. \nEmportez avec vous : Des vêtements d’entraînement chauds et confortables\, des chaussettes\, des chaussons de bain propres ou des pantoufles\, des coussins (ou des serviettes sur lesquelles vous pouvez vous asseoir confortablement\, d’une hauteur de 20 à 30 cm). \nFr. 40.- en espèces et idéalement en petites coupures. \nVeuillez vous inscrire par e-mail au plus tard le mercredi précédent. elisabeth.heiz@gmx.ch\nProgramme à télécharger
URL:https://www.aikikai.ch/fr/mitglieder-event/genkikai-_-yoga-japonais-2
LOCATION:Aikidoschule SanShinKai Basel\, Hagentalerstrasse 49\, Basel\, BS\, 4055\, Schweiz
CATEGORIES:Événements pour les membres
ATTACH;FMTTYPE=image/png:https://www.aikikai.ch/wp-content/uploads/2024/08/Genkikai.png
ORGANIZER;CN="Aikidoschule SanShinKai Basel":MAILTO:info@aikidoschule-sanshinkai-basel.ch
END:VEVENT
BEGIN:VEVENT
DTSTART;TZID=UTC:20241109T094500
DTEND;TZID=UTC:20241109T170000
DTSTAMP:20260425T142334
CREATED:20240721T122518Z
LAST-MODIFIED:20240721T122518Z
UID:4107-1731145500-1731171600@www.aikikai.ch
SUMMARY:Tanrenkai Aikikai Bâle
DESCRIPTION:Jean-Claude Aegerter Shihan\, 7e Dan\, Christian Bucher Shidoin\, 5e Dan 9h45 – 12h15 / 14h00 – 17h00 Gratuit pour les membres Invités : journée entière 30.- / demi-journée 20.-.
URL:https://www.aikikai.ch/fr/mitglieder-event/tanrenkai-aikikai-bale-2
LOCATION:BS
CATEGORIES:Événements pour les membres
ATTACH;FMTTYPE=image/png:https://www.aikikai.ch/wp-content/uploads/2024/03/Aikikai-Basel-e1711570725888.png
END:VEVENT
BEGIN:VEVENT
DTSTART;TZID=UTC:20241109T100000
DTEND;TZID=UTC:20241109T130000
DTSTAMP:20260425T142334
CREATED:20240906T115231Z
LAST-MODIFIED:20240906T115231Z
UID:4271-1731146400-1731157200@www.aikikai.ch
SUMMARY:Bases du bokken et du jo
DESCRIPTION:Bokken et Jo Bases  Lieu : Aikido Schule Bern Heure : 10.00 – 13.00 Le stage est ouvert à tous.\nLes entraînements sont structurés en conséquence\, du niveau de base au niveau avancé.\nKUMI Tachi et KUMI Jo
URL:https://www.aikikai.ch/fr/mitglieder-event/bases-du-bokken-et-du-jo
LOCATION:Aikido Schule Bern\, Wylerringstrasse 36\, Bern\, Bern\, 3014\, Switzerland
CATEGORIES:Événements pour les membres
ATTACH;FMTTYPE=image/png:https://www.aikikai.ch/wp-content/uploads/2024/09/Logo.png
ORGANIZER;CN="Aikido Schule Bern":MAILTO:info@aikidoschulebern.ch
END:VEVENT
BEGIN:VEVENT
DTSTART;TZID=UTC:20241116T090000
DTEND;TZID=UTC:20241116T120000
DTSTAMP:20260425T142334
CREATED:20240620T091856Z
LAST-MODIFIED:20240620T091856Z
UID:4109-1731747600-1731758400@www.aikikai.ch
SUMMARY:Stage d'aïkido à Ostermundigen organisé par l'école d'aïkido de Zollikofen
DESCRIPTION:Aikido Stage des écoles d’aïkido d’Ostermundigen\, Zollikofen et Lyss le 1er juin 2024 avec Thomas Moser Shidoin 5e Dan / Sandra Bernaschina Moser Shidoin 4e Dan Lieu : Aikido Dojo Ostermundigen\, Grubenstrasse 6\, 3072 Ostermundigen Thème : Programmes d’examen selon Ikeda Sensei\, tous les niveaux (enfants et adultes) Coût du stage : Adultes CHF 15.00 Enfants CHF Gratuit Horaire : de 09h00 à 12h00 Nombre de participants : est limité à 20. Envoyer l’inscription à : info@aikidoschule-zollikofen.chJournée d’Aikido télécharger \n 
URL:https://www.aikikai.ch/fr/mitglieder-event/stage-daikido-a-ostermundigen-organise-par-lecole-daikido-de-zollikofen
LOCATION:Aikido Dojo Ostermundigen\, Grubenstrasse 6\, 3072 Ostermundigen\, Grubenstrasse 6\, Ostermundigen\, 3072\, Schweiz
CATEGORIES:Événements pour les membres
ATTACH;FMTTYPE=image/png:https://www.aikikai.ch/wp-content/uploads/2024/06/Logo-Aikidoschulen-Ost-Zoll-Lyss.png
ORGANIZER;CN="Aikidoschule Zollikofen":MAILTO:info@aikidoschule-zollikofen.ch
END:VEVENT
END:VCALENDAR