BEGIN:VCALENDAR
VERSION:2.0
PRODID:-// - ECPv6.15.20//NONSGML v1.0//EN
CALSCALE:GREGORIAN
METHOD:PUBLISH
X-ORIGINAL-URL:https://www.aikikai.ch/fr
X-WR-CALDESC:Évènements pour 
REFRESH-INTERVAL;VALUE=DURATION:PT1H
X-Robots-Tag:noindex
X-PUBLISHED-TTL:PT1H
BEGIN:VTIMEZONE
TZID:UTC
BEGIN:STANDARD
TZOFFSETFROM:+0000
TZOFFSETTO:+0000
TZNAME:UTC
DTSTART:20250101T000000
END:STANDARD
END:VTIMEZONE
BEGIN:VEVENT
DTSTART;TZID=UTC:20260314T100000
DTEND;TZID=UTC:20260314T170000
DTSTAMP:20260421T183340
CREATED:20250917T122853Z
LAST-MODIFIED:20250917T122853Z
UID:5871-1773482400-1773507600@www.aikikai.ch
SUMMARY:Stage ACSA Yudansha Langenthal (BE) 2026
DESCRIPTION:Rencontre nationale des ceintures noires de l’ACSA\nRencontre nationale des ceintures noires de l’ACSA\n14. mars/mars 2026\navec/avec\nFritz Heuscher Shihan\, 7e Dan Renata Jocic Shihan\, 7e Dan\nTélécharger le programme
URL:https://www.aikikai.ch/fr/mitglieder-event/stage-acsa-yudansha-langenthal-be-2026
LOCATION:Langenthal Sporthalle Hard\, Weststrasse 33\, Langenthal\, Bern\, 4900\, Switzerland
CATEGORIES:Événements de l'ACSA
ATTACH;FMTTYPE=image/png:https://www.aikikai.ch/wp-content/uploads/2024/05/ACSA-Logo-klein-e1723986431189.png
END:VEVENT
END:VCALENDAR