BEGIN:VCALENDAR
VERSION:2.0
PRODID:-// - ECPv6.15.20//NONSGML v1.0//EN
CALSCALE:GREGORIAN
METHOD:PUBLISH
X-ORIGINAL-URL:https://www.aikikai.ch/fr
X-WR-CALDESC:Évènements pour 
REFRESH-INTERVAL;VALUE=DURATION:PT1H
X-Robots-Tag:noindex
X-PUBLISHED-TTL:PT1H
BEGIN:VTIMEZONE
TZID:UTC
BEGIN:STANDARD
TZOFFSETFROM:+0000
TZOFFSETTO:+0000
TZNAME:UTC
DTSTART:20240101T000000
END:STANDARD
END:VTIMEZONE
BEGIN:VEVENT
DTSTART;VALUE=DATE:20250118
DTEND;VALUE=DATE:20250120
DTSTAMP:20260425T162010
CREATED:20240201T140815Z
LAST-MODIFIED:20240201T140815Z
UID:4088-1737158400-1737331199@www.aikikai.ch
SUMMARY:ACSA Stage Forêt
DESCRIPTION:
URL:https://www.aikikai.ch/fr/mitglieder-event/acsa-stage-foret
LOCATION:Wald\, Bachtelstrasse 32\, Wald ZH\, 8636\, Switzerland
CATEGORIES:Événements de l'ACSA
ATTACH;FMTTYPE=image/png:https://www.aikikai.ch/wp-content/uploads/2023/08/logoHD-e1710698871226.png
END:VEVENT
END:VCALENDAR