BEGIN:VCALENDAR
VERSION:2.0
PRODID:-// - ECPv6.15.20//NONSGML v1.0//EN
CALSCALE:GREGORIAN
METHOD:PUBLISH
X-ORIGINAL-URL:https://www.aikikai.ch/fr
X-WR-CALDESC:Évènements pour 
REFRESH-INTERVAL;VALUE=DURATION:PT1H
X-Robots-Tag:noindex
X-PUBLISHED-TTL:PT1H
BEGIN:VTIMEZONE
TZID:UTC
BEGIN:STANDARD
TZOFFSETFROM:+0000
TZOFFSETTO:+0000
TZNAME:UTC
DTSTART:20230101T000000
END:STANDARD
END:VTIMEZONE
BEGIN:VEVENT
DTSTART;TZID=UTC:20241116T133000
DTEND;TZID=UTC:20241116T170000
DTSTAMP:20260425T190329
CREATED:20240201T140544Z
LAST-MODIFIED:20240201T140544Z
UID:4084-1731763800-1731776400@www.aikikai.ch
SUMMARY:ACSA Rätesitzung / Séance des Conseils
DESCRIPTION:
URL:https://www.aikikai.ch/fr/mitglieder-event/acsa-raetesitzung-seance-des-conseils
LOCATION:Bern\, Zeughausstrasse 41\, Bern\, 3001\, Switzerland
CATEGORIES:Événements de l'ACSA
ATTACH;FMTTYPE=image/png:https://www.aikikai.ch/wp-content/uploads/2023/08/logoHD-e1710698871226.png
END:VEVENT
END:VCALENDAR