BEGIN:VCALENDAR
VERSION:2.0
PRODID:-// - ECPv6.15.20//NONSGML v1.0//EN
CALSCALE:GREGORIAN
METHOD:PUBLISH
X-ORIGINAL-URL:https://www.aikikai.ch/fr
X-WR-CALDESC:Évènements pour 
REFRESH-INTERVAL;VALUE=DURATION:PT1H
X-Robots-Tag:noindex
X-PUBLISHED-TTL:PT1H
BEGIN:VTIMEZONE
TZID:UTC
BEGIN:STANDARD
TZOFFSETFROM:+0000
TZOFFSETTO:+0000
TZNAME:UTC
DTSTART:20250101T000000
END:STANDARD
END:VTIMEZONE
BEGIN:VEVENT
DTSTART;TZID=UTC:20260509T090000
DTEND;TZID=UTC:20260509T120000
DTSTAMP:20260421T180118
CREATED:20251229T124134Z
LAST-MODIFIED:20251229T124134Z
UID:5870-1778317200-1778328000@www.aikikai.ch
SUMMARY:Aikido Stage à Ostermundigen le 9 mai 2026
DESCRIPTION:avec :\nThomas Moser Shidoin 5e Dan\nSandra Bernaschina Moser Shidoin 4e Dan\n\nLieu : Aikido Dojo Ostermundigen\, Grubenstrasse 6\, 3072 Ostermundigen \nThème : Programmes d’examen tous niveaux (enfants et adultes) \nCoût de la scène : adultes CHF 15.00 enfants CHF Gratuit \nHoraires d’entraînement : de 09h00 à 12h00 \nNombre de participants : est limité à 20. \nEnvoyer l’inscription à : info@aikidoschule-ostermundigen.ch \nTélécharger le programme
URL:https://www.aikikai.ch/fr/mitglieder-event/aikido-stage-a-ostermundigen-le-9-mai-2026
LOCATION:Aikido Dojo Ostermundigen\, Grubenstrasse 6\, 3072 Ostermundigen\, Grubenstrasse 6\, Ostermundigen\, 3072\, Schweiz
CATEGORIES:Événements pour les membres
ATTACH;FMTTYPE=image/png:https://www.aikikai.ch/wp-content/uploads/2025/12/Logo-Aikidoschulen-Ost-Zoll-Lyss.png
END:VEVENT
BEGIN:VEVENT
DTSTART;TZID=UTC:20260509T140000
DTEND;TZID=UTC:20260509T170000
DTSTAMP:20260421T180118
CREATED:20260106T102835Z
LAST-MODIFIED:20260106T102835Z
UID:5864-1778335200-1778346000@www.aikikai.ch
SUMMARY:Assemblée des délégués / Delegiertenversammlung 09.05.2026\, Bern
DESCRIPTION:Infos à venir !
URL:https://www.aikikai.ch/fr/mitglieder-event/assemblee-des-delegues-delegiertenversammlung-09-05-2026-bern
LOCATION:Bern\, Zeughausstrasse 41\, Bern\, 3001\, Switzerland
CATEGORIES:Événements de l'ACSA
ATTACH;FMTTYPE=image/png:https://www.aikikai.ch/wp-content/uploads/2024/05/ACSA-Logo-klein-e1723986431189.png
END:VEVENT
END:VCALENDAR