BEGIN:VCALENDAR
VERSION:2.0
PRODID:-// - ECPv6.15.20//NONSGML v1.0//EN
CALSCALE:GREGORIAN
METHOD:PUBLISH
X-ORIGINAL-URL:https://www.aikikai.ch/fr
X-WR-CALDESC:Évènements pour 
REFRESH-INTERVAL;VALUE=DURATION:PT1H
X-Robots-Tag:noindex
X-PUBLISHED-TTL:PT1H
BEGIN:VTIMEZONE
TZID:UTC
BEGIN:STANDARD
TZOFFSETFROM:+0000
TZOFFSETTO:+0000
TZNAME:UTC
DTSTART:20250101T000000
END:STANDARD
END:VTIMEZONE
BEGIN:VEVENT
DTSTART;TZID=UTC:20260502T100000
DTEND;TZID=UTC:20260502T163000
DTSTAMP:20260421T182223
CREATED:20250115T093024Z
LAST-MODIFIED:20260128T122327Z
UID:4810-1777716000-1777739400@www.aikikai.ch
SUMMARY:DLC Iaïdo Tameshi-giri
DESCRIPTION:Test de coupe avec Katana\nTameshi = nattes de paille de riz roulées et trempées dans l’eau 20.00/tameshi
URL:https://www.aikikai.ch/fr/mitglieder-event/dlc-iaido-tameshi-giri-4
LOCATION:Dojo La Cézille\, Rue de la Cézille 18\, 1269 Bassins VD\, Waadt\, 1269\, Schweiz
CATEGORIES:Événements pour les membres
ATTACH;FMTTYPE=image/png:https://www.aikikai.ch/wp-content/uploads/2025/01/Logo.png
ORGANIZER;CN="DLC Dojo La C%C3%A9zille":MAILTO:juerg.kohler@bluewin.ch
END:VEVENT
END:VCALENDAR