BEGIN:VCALENDAR
VERSION:2.0
PRODID:-// - ECPv6.15.20//NONSGML v1.0//EN
CALSCALE:GREGORIAN
METHOD:PUBLISH
X-ORIGINAL-URL:https://www.aikikai.ch/fr
X-WR-CALDESC:Évènements pour 
REFRESH-INTERVAL;VALUE=DURATION:PT1H
X-Robots-Tag:noindex
X-PUBLISHED-TTL:PT1H
BEGIN:VTIMEZONE
TZID:UTC
BEGIN:STANDARD
TZOFFSETFROM:+0000
TZOFFSETTO:+0000
TZNAME:UTC
DTSTART:20250101T000000
END:STANDARD
END:VTIMEZONE
BEGIN:VEVENT
DTSTART;VALUE=DATE:20260213
DTEND;VALUE=DATE:20260216
DTSTAMP:20260422T020307
CREATED:20251222T164517Z
LAST-MODIFIED:20251222T164517Z
UID:5879-1770940800-1771199999@www.aikikai.ch
SUMMARY:Christian Tissier Suisse
DESCRIPTION:Stage en Suisse avec Christian Tissier\n \nau centre sportif du Kerenzerberg\nPanoramastrasse 8\n8757 Filzbach (GL)\nHoraires d’entraînement :\nven 19:00 – 21:00\nSam 09:00 – 11:00\, 14:00 – 16:00\nDim 09:00 – 11:00 \nCoûts :\nvendredi / dimanche CHF 50 chacun\nseulement sam CHF 80\nStage complet CHF 120 \nInfo Téléchargement
URL:https://www.aikikai.ch/fr/mitglieder-event/christian-tissier-suisse
LOCATION:Sportzentrum Kerenzerberg\, Filzbach\, Filzbach\, Glarus\, Switzerland
CATEGORIES:Événements Umbrella
ATTACH;FMTTYPE=image/jpeg:https://www.aikikai.ch/wp-content/uploads/2025/12/Logo-Aikido-Glarus.jpg
END:VEVENT
END:VCALENDAR