BEGIN:VCALENDAR
VERSION:2.0
PRODID:-// - ECPv6.15.20//NONSGML v1.0//EN
CALSCALE:GREGORIAN
METHOD:PUBLISH
X-ORIGINAL-URL:https://www.aikikai.ch/en
X-WR-CALDESC:Events for 
REFRESH-INTERVAL;VALUE=DURATION:PT1H
X-Robots-Tag:noindex
X-PUBLISHED-TTL:PT1H
BEGIN:VTIMEZONE
TZID:UTC
BEGIN:STANDARD
TZOFFSETFROM:+0000
TZOFFSETTO:+0000
TZNAME:UTC
DTSTART:20250101T000000
END:STANDARD
END:VTIMEZONE
BEGIN:VEVENT
DTSTART;VALUE=DATE:20260613
DTEND;VALUE=DATE:20260614
DTSTAMP:20260423T235624
CREATED:20250922T124440Z
LAST-MODIFIED:20250922T124440Z
UID:5861-1781308800-1781395199@www.aikikai.ch
SUMMARY:Children's/youth days ACSA
DESCRIPTION:More information to follow!
URL:https://www.aikikai.ch/en/mitglieder-event/childrens-youth-days-acsa
CATEGORIES:ACSA events
ATTACH;FMTTYPE=image/png:https://www.aikikai.ch/wp-content/uploads/2024/05/ACSA-Logo-klein-e1723986431189.png
END:VEVENT
BEGIN:VEVENT
DTSTART;TZID=UTC:20260613T133000
DTEND;TZID=UTC:20260613T163000
DTSTAMP:20260423T235624
CREATED:20260114T102348Z
LAST-MODIFIED:20260114T102348Z
UID:5859-1781357400-1781368200@www.aikikai.ch
SUMMARY:Stage in Breitenbach with Lisa Heiz\, 6th Dan - followed by examinations for adults
DESCRIPTION:For many years we have maintained fruitful cooperation and contacts with the Aikidodojo Laufental-Thierstein and other friendly Aikidokas. \nOur schools have been friends for many years. I am very much looking forward to seeing you again and exchanging ideas. \nIf you would like to take children/young people with you\, they are very welcome. They should be at least 10 years old\, be able to roll and maintain concentration for three hours – and please: come in a ratio of approximately 1:2 children/young people to adults. The stage is not designed as a children’s/youth day\, but as a mix of generations. \nThe stage is followed by exams and then we go out for a meal together. Please note when registering: with or without dinner \nProgram Download
URL:https://www.aikikai.ch/en/mitglieder-event/stage-in-breitenbach-with-lisa-heiz-6th-dan-followed-by-examinations-for-adults-2
LOCATION:Dojo Laufental-Thierstein Grienackerweg 13\, 4226 Breitenbach\, Grienackerweg 13\, Breitenbach\, 4226\, Switzerland
CATEGORIES:Member events
ATTACH;FMTTYPE=image/png:https://www.aikikai.ch/wp-content/uploads/2025/02/Basel_schmal-e1739009527432.png
ORGANIZER;CN="Aikidoschule SanShinKai Basel":MAILTO:info@aikidoschule-sanshinkai-basel.ch
END:VEVENT
BEGIN:VEVENT
DTSTART;TZID=UTC:20260621T100000
DTEND;TZID=UTC:20260621T130000
DTSTAMP:20260423T235624
CREATED:20260114T101932Z
LAST-MODIFIED:20260121T083743Z
UID:5727-1782036000-1782046800@www.aikikai.ch
SUMMARY:Genkikai _ Japanese Yoga
DESCRIPTION:Genkikai combines meditation\, breathing and gentle forms of gymnastics.\nWe relax and refresh ourselves.\nSpecific breathing exercises help us to feel our center – the silence of meditation supports us in becoming more aware of our feelings\, thoughts and body.\nIn Genkikai\, our body\, soul and mind are given time to calm down and let go of our everyday lives. \nNo previous knowledge is necessary.\nNew faces are very welcome. \nBring along: Comfortable\, warm training clothes\, socks\, clean slippers or slippers\, seat cushion (or towels on which you can sit comfortably\, approx. 20-30 cm high) \nFr 40.- in cash and ideally in small notes. \nPlease register by e-mail by the Wednesday before. elisabeth.heiz@gmx.ch\nDownload the program
URL:https://www.aikikai.ch/en/mitglieder-event/genkikai-_-japanese-yoga-8
LOCATION:Aikidoschule SanShinKai Basel\, Hagentalerstrasse 49\, Basel\, BS\, 4055\, Schweiz
CATEGORIES:Member events
ATTACH;FMTTYPE=image/png:https://www.aikikai.ch/wp-content/uploads/2024/08/Genkikai.png
ORGANIZER;CN="Aikidoschule SanShinKai Basel":MAILTO:info@aikidoschule-sanshinkai-basel.ch
END:VEVENT
BEGIN:VEVENT
DTSTART;TZID=UTC:20260627T133000
DTEND;TZID=UTC:20260627T163000
DTSTAMP:20260423T235624
CREATED:20260114T103756Z
LAST-MODIFIED:20260128T122021Z
UID:5770-1782567000-1782577800@www.aikikai.ch
SUMMARY:DLC Iaïdo Tameshi-giri
DESCRIPTION:Cutting test with Katana\nTameshi = rolled rice straw mats soaked in water 20.00/tameshi
URL:https://www.aikikai.ch/en/mitglieder-event/dlc-iaido-tameshi-giri-6
LOCATION:Dojo La Cézille\, Rue de la Cézille 18\, 1269 Bassins VD\, Waadt\, 1269\, Schweiz
CATEGORIES:Member events
ATTACH;FMTTYPE=image/png:https://www.aikikai.ch/wp-content/uploads/2025/01/Logo.png
ORGANIZER;CN="DLC Dojo La C%C3%A9zille":MAILTO:juerg.kohler@bluewin.ch
END:VEVENT
END:VCALENDAR