BEGIN:VCALENDAR
VERSION:2.0
PRODID:-// - ECPv6.15.20//NONSGML v1.0//EN
CALSCALE:GREGORIAN
METHOD:PUBLISH
X-ORIGINAL-URL:https://www.aikikai.ch/en
X-WR-CALDESC:Events for 
REFRESH-INTERVAL;VALUE=DURATION:PT1H
X-Robots-Tag:noindex
X-PUBLISHED-TTL:PT1H
BEGIN:VTIMEZONE
TZID:UTC
BEGIN:STANDARD
TZOFFSETFROM:+0000
TZOFFSETTO:+0000
TZNAME:UTC
DTSTART:20250101T000000
END:STANDARD
END:VTIMEZONE
BEGIN:VEVENT
DTSTART;TZID=UTC:20260502T100000
DTEND;TZID=UTC:20260502T163000
DTSTAMP:20260421T102927
CREATED:20250115T093024Z
LAST-MODIFIED:20260128T122302Z
UID:4809-1777716000-1777739400@www.aikikai.ch
SUMMARY:DLC Iaïdo Tameshi-giri
DESCRIPTION:Cutting test with Katana\nTameshi = rolled rice straw mats soaked in water 20.00/tameshi
URL:https://www.aikikai.ch/en/mitglieder-event/dlc-iaido-tameshi-giri-4
LOCATION:Dojo La Cézille\, Rue de la Cézille 18\, 1269 Bassins VD\, Waadt\, 1269\, Schweiz
CATEGORIES:Member events
ATTACH;FMTTYPE=image/png:https://www.aikikai.ch/wp-content/uploads/2025/01/Logo.png
ORGANIZER;CN="DLC Dojo La C%C3%A9zille":MAILTO:juerg.kohler@bluewin.ch
END:VEVENT
BEGIN:VEVENT
DTSTART;TZID=UTC:20260509T090000
DTEND;TZID=UTC:20260509T120000
DTSTAMP:20260421T102927
CREATED:20251229T124134Z
LAST-MODIFIED:20251229T124134Z
UID:5865-1778317200-1778328000@www.aikikai.ch
SUMMARY:Aikido Stage in Ostermundigen on May 9\, 2026
DESCRIPTION:with:\nThomas Moser Shidoin 5th Dan\nSandra Bernaschina Moser Shidoin 4th Dan\n\nLocation: Aikido Dojo Ostermundigen\, Grubenstrasse 6\, 3072 Ostermundigen \nTopic: Examination programs for all levels (children and adults) \nCost Stage: Adults CHF 15.00 Children CHF Free of charge \nTraining time: from 09.00 to 12.00 \nNumber of participants: limited to 20. \nSend registration to: info@aikidoschule-ostermundigen.ch \nProgram Download
URL:https://www.aikikai.ch/en/mitglieder-event/aikido-stage-in-ostermundigen-on-may-9-2026
LOCATION:Aikido Dojo Ostermundigen\, Grubenstrasse 6\, 3072 Ostermundigen\, Grubenstrasse 6\, Ostermundigen\, 3072\, Schweiz
CATEGORIES:Member events
ATTACH;FMTTYPE=image/png:https://www.aikikai.ch/wp-content/uploads/2025/12/Logo-Aikidoschulen-Ost-Zoll-Lyss.png
END:VEVENT
BEGIN:VEVENT
DTSTART;TZID=UTC:20260509T140000
DTEND;TZID=UTC:20260509T170000
DTSTAMP:20260421T102927
CREATED:20260106T102835Z
LAST-MODIFIED:20260106T102835Z
UID:5863-1778335200-1778346000@www.aikikai.ch
SUMMARY:Delegates' Meeting / Assemblée des délégués 09.05.2026\, Bern
DESCRIPTION:More info to come!
URL:https://www.aikikai.ch/en/mitglieder-event/delegates-meeting-assemblee-des-delegues-09-05-2026-bern
LOCATION:Bern\, Zeughausstrasse 41\, Bern\, 3001\, Switzerland
CATEGORIES:ACSA events
ATTACH;FMTTYPE=image/png:https://www.aikikai.ch/wp-content/uploads/2024/05/ACSA-Logo-klein-e1723986431189.png
END:VEVENT
BEGIN:VEVENT
DTSTART;TZID=UTC:20260531T100000
DTEND;TZID=UTC:20260531T130000
DTSTAMP:20260421T102927
CREATED:20260114T101909Z
LAST-MODIFIED:20260128T122133Z
UID:5721-1780221600-1780232400@www.aikikai.ch
SUMMARY:Genkikai _ Japanese Yoga
DESCRIPTION:Genkikai combines meditation\, breathing and gentle forms of gymnastics.\nWe relax and refresh ourselves.\nSpecific breathing exercises help us to feel our center – the silence of meditation supports us in becoming more aware of our feelings\, thoughts and body.\nIn Genkikai\, our body\, soul and mind are given time to calm down and let go of our everyday lives. \nNo previous knowledge is necessary.\nNew faces are very welcome. \nBring along: Comfortable\, warm training clothes\, socks\, clean slippers or slippers\, seat cushion (or towels on which you can sit comfortably\, approx. 20-30 cm high) \nFr 40.- in cash and ideally in small notes. \nPlease register by e-mail by the Wednesday before. elisabeth.heiz@gmx.ch\nDownload the program
URL:https://www.aikikai.ch/en/mitglieder-event/genkikai-_-japanese-yoga-7
LOCATION:Aikidoschule SanShinKai Basel\, Hagentalerstrasse 49\, Basel\, BS\, 4055\, Schweiz
CATEGORIES:Member events
ATTACH;FMTTYPE=image/png:https://www.aikikai.ch/wp-content/uploads/2024/08/Genkikai.png
ORGANIZER;CN="Aikidoschule SanShinKai Basel":MAILTO:info@aikidoschule-sanshinkai-basel.ch
END:VEVENT
END:VCALENDAR