BEGIN:VCALENDAR
VERSION:2.0
PRODID:-// - ECPv6.15.20//NONSGML v1.0//EN
CALSCALE:GREGORIAN
METHOD:PUBLISH
X-ORIGINAL-URL:https://www.aikikai.ch/en
X-WR-CALDESC:Events for 
REFRESH-INTERVAL;VALUE=DURATION:PT1H
X-Robots-Tag:noindex
X-PUBLISHED-TTL:PT1H
BEGIN:VTIMEZONE
TZID:UTC
BEGIN:STANDARD
TZOFFSETFROM:+0000
TZOFFSETTO:+0000
TZNAME:UTC
DTSTART:20250101T000000
END:STANDARD
END:VTIMEZONE
BEGIN:VEVENT
DTSTART;TZID=UTC:20260201T100000
DTEND;TZID=UTC:20260201T130000
DTSTAMP:20260421T230419
CREATED:20260114T101543Z
LAST-MODIFIED:20260114T101543Z
UID:5703-1769940000-1769950800@www.aikikai.ch
SUMMARY:Genkikai _ Japanese Yoga
DESCRIPTION:Genkikai combines meditation\, breathing and gentle forms of gymnastics.\nWe relax and refresh ourselves.\nSpecific breathing exercises help us to feel our center – the silence of meditation supports us in becoming more aware of our feelings\, thoughts and body.\nIn Genkikai\, our body\, soul and mind are given time to calm down and let go of our everyday lives.    \nNo previous knowledge is necessary.\nNew faces are very welcome.  \nBring along: Comfortable\, warm training clothes\, socks\, clean slippers or slippers\, seat cushion (or towels on which you can sit comfortably\, approx. 20-30 cm high) \nFr 40.- in cash and ideally in small notes. \nPlease register by e-mail by the Wednesday before. elisabeth.heiz@gmx.ch\nDownload the program
URL:https://www.aikikai.ch/en/mitglieder-event/genkikai-_-japanese-yoga-4
LOCATION:Aikidoschule SanShinKai Basel\, Hagentalerstrasse 49\, Basel\, BS\, 4055\, Schweiz
CATEGORIES:Member events
ATTACH;FMTTYPE=image/png:https://www.aikikai.ch/wp-content/uploads/2024/08/Genkikai.png
ORGANIZER;CN="Aikidoschule SanShinKai Basel":MAILTO:info@aikidoschule-sanshinkai-basel.ch
END:VEVENT
BEGIN:VEVENT
DTSTART;TZID=UTC:20260201T100000
DTEND;TZID=UTC:20260201T130000
DTSTAMP:20260421T230419
CREATED:20260114T133440Z
LAST-MODIFIED:20260114T133440Z
UID:5786-1769940000-1769950800@www.aikikai.ch
SUMMARY:Genkikai _ Japanese Yoga
DESCRIPTION:Genkikai combines meditation\, breathing and gentle forms of gymnastics.\nWe relax and refresh ourselves.\nSpecific breathing exercises help us to feel our center – the silence of meditation supports us in becoming more aware of our feelings\, thoughts and body.\nIn Genkikai\, our body\, soul and mind are given time to calm down and let go of our everyday lives.    \nNo previous knowledge is necessary.\nNew faces are very welcome.  \nBring along: Comfortable\, warm training clothes\, socks\, clean slippers or slippers\, seat cushion (or towels on which you can sit comfortably\, approx. 20-30 cm high) \nFr 40.- in cash and ideally in small notes. \nPlease register by e-mail by the Wednesday before. elisabeth.heiz@gmx.ch\nDownload the program
URL:https://www.aikikai.ch/en/mitglieder-event/genkikai-_-japanese-yoga-13
LOCATION:Aikidoschule SanShinKai Basel\, Hagentalerstrasse 49\, Basel\, BS\, 4055\, Schweiz
CATEGORIES:Member events
ATTACH;FMTTYPE=image/png:https://www.aikikai.ch/wp-content/uploads/2024/08/Genkikai.png
ORGANIZER;CN="Aikidoschule SanShinKai Basel":MAILTO:info@aikidoschule-sanshinkai-basel.ch
END:VEVENT
BEGIN:VEVENT
DTSTART;VALUE=DATE:20260213
DTEND;VALUE=DATE:20260216
DTSTAMP:20260421T230419
CREATED:20251222T164517Z
LAST-MODIFIED:20251222T164517Z
UID:5875-1770940800-1771199999@www.aikikai.ch
SUMMARY:Christian Tissier Switzerland
DESCRIPTION:Stage in Switzerland with Christian Tissier\n \nat the Kerenzerberg Sports Center\nPanoramastrasse 8\n8757 Filzbach (GL)\nTraining times:\nFri 19:00 – 21:00\nSat 09:00 – 11:00\, 14:00 – 16:00\nSun 09:00 – 11:00 \nCosts:\nFriday / Sunday CHF 50.-\nSat only CHF 80.-\nentire stage CHF 120.- \nInfo Download
URL:https://www.aikikai.ch/en/mitglieder-event/christian-tissier-switzerland
LOCATION:Sportzentrum Kerenzerberg\, Filzbach\, Filzbach\, Glarus\, Switzerland
CATEGORIES:Umbrella events
ATTACH;FMTTYPE=image/jpeg:https://www.aikikai.ch/wp-content/uploads/2025/12/Logo-Aikido-Glarus.jpg
END:VEVENT
END:VCALENDAR