BEGIN:VCALENDAR
VERSION:2.0
PRODID:-// - ECPv6.15.20//NONSGML v1.0//EN
CALSCALE:GREGORIAN
METHOD:PUBLISH
X-ORIGINAL-URL:https://www.aikikai.ch/en
X-WR-CALDESC:Events for 
REFRESH-INTERVAL;VALUE=DURATION:PT1H
X-Robots-Tag:noindex
X-PUBLISHED-TTL:PT1H
BEGIN:VTIMEZONE
TZID:UTC
BEGIN:STANDARD
TZOFFSETFROM:+0000
TZOFFSETTO:+0000
TZNAME:UTC
DTSTART:20230101T000000
END:STANDARD
END:VTIMEZONE
BEGIN:VTIMEZONE
TZID:Europe/Helsinki
BEGIN:DAYLIGHT
TZOFFSETFROM:+0200
TZOFFSETTO:+0300
TZNAME:EEST
DTSTART:20230326T010000
END:DAYLIGHT
BEGIN:STANDARD
TZOFFSETFROM:+0300
TZOFFSETTO:+0200
TZNAME:EET
DTSTART:20231029T010000
END:STANDARD
BEGIN:DAYLIGHT
TZOFFSETFROM:+0200
TZOFFSETTO:+0300
TZNAME:EEST
DTSTART:20240331T010000
END:DAYLIGHT
BEGIN:STANDARD
TZOFFSETFROM:+0300
TZOFFSETTO:+0200
TZNAME:EET
DTSTART:20241027T010000
END:STANDARD
BEGIN:DAYLIGHT
TZOFFSETFROM:+0200
TZOFFSETTO:+0300
TZNAME:EEST
DTSTART:20250330T010000
END:DAYLIGHT
BEGIN:STANDARD
TZOFFSETFROM:+0300
TZOFFSETTO:+0200
TZNAME:EET
DTSTART:20251026T010000
END:STANDARD
END:VTIMEZONE
BEGIN:VEVENT
DTSTART;TZID=UTC:20250614T140000
DTEND;TZID=UTC:20250614T163000
DTSTAMP:20260421T144042
CREATED:20240220T143751Z
LAST-MODIFIED:20240220T143751Z
UID:4100-1749909600-1749918600@www.aikikai.ch
SUMMARY:DLC Iaïdo Tameshi-giri
DESCRIPTION:Cutting test with Katana\n  Tameshi = rolled rice straw mats soaked in water 20.00/tameshi
URL:https://www.aikikai.ch/en/mitglieder-event/dlc-iaido-tameshi-giri
LOCATION:Dojo La Cézille\, Rue de la Cézille 18\, 1269 Bassins VD\, Waadt\, 1269\, Schweiz
CATEGORIES:Member events
ATTACH;FMTTYPE=image/png:https://www.aikikai.ch/wp-content/uploads/2024/02/Schnitt-1.png
ORGANIZER;CN="DLC Dojo La C%C3%A9zille":MAILTO:juerg.kohler@bluewin.ch
END:VEVENT
BEGIN:VEVENT
DTSTART;VALUE=DATE:20250614
DTEND;VALUE=DATE:20250615
DTSTAMP:20260421T144042
CREATED:20240201T141001Z
LAST-MODIFIED:20240816T083522Z
UID:4048-1749859200-1749945599@www.aikikai.ch
SUMMARY:Children's and youth days in Bottmingen
DESCRIPTION:
URL:https://www.aikikai.ch/en/mitglieder-event/kinder-und-jugendstage-stage-pour-enfants-et-adolescents
LOCATION:Bottmingen\, Bottmingen\, 4103\, Schweiz
CATEGORIES:ACSA events
ATTACH;FMTTYPE=image/png:https://www.aikikai.ch/wp-content/uploads/2023/08/logoHD-e1710698871226.png
END:VEVENT
BEGIN:VEVENT
DTSTART;TZID=UTC:20250503T100000
DTEND;TZID=UTC:20250503T163000
DTSTAMP:20260421T144042
CREATED:20250115T092639Z
LAST-MODIFIED:20250115T092639Z
UID:4797-1746266400-1746289800@www.aikikai.ch
SUMMARY:DLC Iaïdo Tameshi-giri
DESCRIPTION:Cutting test with Katana\n  Tameshi = rolled rice straw mats soaked in water 20.00/tameshi
URL:https://www.aikikai.ch/en/mitglieder-event/dlc-iaido-tameshi-giri-3
LOCATION:Dojo La Cézille\, Rue de la Cézille 18\, 1269 Bassins VD\, Waadt\, 1269\, Schweiz
CATEGORIES:Member events
ATTACH;FMTTYPE=image/png:https://www.aikikai.ch/wp-content/uploads/2025/01/Logo.png
ORGANIZER;CN="DLC Dojo La C%C3%A9zille":MAILTO:juerg.kohler@bluewin.ch
END:VEVENT
BEGIN:VEVENT
DTSTART;TZID=UTC:20250308T100000
DTEND;TZID=UTC:20250308T160000
DTSTAMP:20260421T144042
CREATED:20240201T141730Z
LAST-MODIFIED:20240201T141730Z
UID:4829-1741428000-1741449600@www.aikikai.ch
SUMMARY:ACSA Yudansha Stage Langenthal
DESCRIPTION:National meeting of black belt holders of the ACSA\nRencontre nationale des ceintures noires de l’ACSA\n8. March/Mars 2025\nSporthalle Hard\, Weststrasse 33\, 4900 Langenthal (BE)\nmit/avec \nUrs Aepli Sensei\, 6th Dan\nHansruedi Nef Sensei\, 6th Dan\nPlease bring Jo + Bokken. / Veuillez emporter Jo + Bokken.\nAll 1st Kyu are cordially invited. / Les 1erer Kyu sont cordialement invités.\nThe stage is free for all ACSA members. / Ce stage est gratuit pour tous les membres de l’ACSA.\nAikidokas without ACSA license pay CHF 30.- / Aïkidokas sans license ACSA payent CHF 30.-\nACSA members please do not forget your ACSA card. Les membres ACSA ne pas oublier la license ACSA.     \nACSA Yudansha Stage Program
URL:https://www.aikikai.ch/en/mitglieder-event/acsa-yudansha-stage-langenthal
LOCATION:4900 Langenthal\, Schweiz\, Gaswerkstrasse 66A\, Langenthal\, 4900\, Switzerland
CATEGORIES:ACSA events
ATTACH;FMTTYPE=image/png:https://www.aikikai.ch/wp-content/uploads/2024/05/ACSA-Logo-klein-e1723986431189.png
END:VEVENT
BEGIN:VEVENT
DTSTART;VALUE=DATE:20250308
DTEND;VALUE=DATE:20250309
DTSTAMP:20260421T144042
CREATED:20240201T140852Z
LAST-MODIFIED:20240909T083623Z
UID:4089-1741392000-1741478399@www.aikikai.ch
SUMMARY:ACSA Yudansha Stage
DESCRIPTION:with: Francis Chapuis Sensei\, 6th Dan Urs Aepli Sensei\, 6th Dan Info will follow!
URL:https://www.aikikai.ch/en/mitglieder-event/acsa-yudansha-stage-2
LOCATION:4900 Langenthal\, Schweiz\, Gaswerkstrasse 66A\, Langenthal\, 4900\, Switzerland
CATEGORIES:ACSA events
ATTACH;FMTTYPE=image/png:https://www.aikikai.ch/wp-content/uploads/2023/08/logoHD-e1710698871226.png
END:VEVENT
BEGIN:VEVENT
DTSTART;VALUE=DATE:20250118
DTEND;VALUE=DATE:20250120
DTSTAMP:20260421T144042
CREATED:20240201T140815Z
LAST-MODIFIED:20250325T113821Z
UID:4087-1737158400-1737331199@www.aikikai.ch
SUMMARY:ACSA Stage Forest
DESCRIPTION:with/avec\nUrs Wilhelm Sensei\, 6th Dan\nMilena Wayllany\, 5th Dan\nChris Langer\, 4th Dan\nPlease bring JO + BOKKEN. / Veuillez emporter Jo et Bokken.\nThe stage is free for all ACSA members. / Ce stage est gratuit pour tous les membres de l’ACSA.\nAikidokas without ACSA license pay CHF 30.-. / Aïkidokas sans license ACSA payent CHF 30.-.\nACSA members please do not forget the ACSA license. / Le membres ACSA ne pas oublier la license ACSA.  \nProgram download\n 
URL:https://www.aikikai.ch/en/mitglieder-event/acsa-stage-forest
LOCATION:Wald\, Bachtelstrasse 32\, Wald ZH\, 8636\, Switzerland
CATEGORIES:ACSA events
ATTACH;FMTTYPE=image/png:https://www.aikikai.ch/wp-content/uploads/2023/08/logoHD-e1710698871226.png
END:VEVENT
BEGIN:VEVENT
DTSTART;TZID=UTC:20241227T090000
DTEND;TZID=UTC:20241227T120000
DTSTAMP:20260421T144042
CREATED:20240721T123035Z
LAST-MODIFIED:20240721T123035Z
UID:4112-1735290000-1735300800@www.aikikai.ch
SUMMARY:Training during the holidays
DESCRIPTION:René Etter Shidoin\, 6th Dan Members free of charge Guests: full day 30.- / half day 20.-   
URL:https://www.aikikai.ch/en/mitglieder-event/training-during-the-holidays
LOCATION:Aikikai Basel\, Horburgstrasse 22\, Basel\, 4057\, Schweiz
CATEGORIES:Member events
ATTACH;FMTTYPE=image/png:https://www.aikikai.ch/wp-content/uploads/2024/03/Aikikai-Basel-e1711570725888.png
END:VEVENT
BEGIN:VEVENT
DTSTART;TZID=UTC:20241226T090000
DTEND;TZID=UTC:20241226T120000
DTSTAMP:20260421T144042
CREATED:20240721T121911Z
LAST-MODIFIED:20240721T121911Z
UID:4110-1735203600-1735214400@www.aikikai.ch
SUMMARY:Training during the 2024 holidays
DESCRIPTION:René Etter\, Shidoin 6th Dan Members free of charge Guests: full day 30.- / half day 20.-
URL:https://www.aikikai.ch/en/mitglieder-event/training-during-the-2024-holidays
LOCATION:Aikikai Basel\, Horburgstrasse 22\, Basel\, 4057\, Schweiz
CATEGORIES:Member events
ATTACH;FMTTYPE=image/png:https://www.aikikai.ch/wp-content/uploads/2024/03/Aikikai-Basel-e1711570725888.png
END:VEVENT
BEGIN:VEVENT
DTSTART;VALUE=DATE:20241226
DTEND;VALUE=DATE:20250101
DTSTAMP:20260421T144042
CREATED:20240904T100347Z
LAST-MODIFIED:20240904T100347Z
UID:4268-1735171200-1735689599@www.aikikai.ch
SUMMARY:28th Aikido Winter Days Kerenzerberg
DESCRIPTION:The Aikido Winter Days Kerenzerberg will take place from December 26 – 31\, 24. Direction: Dragisha Jocic\n7th Dan Shihan\, Francesco Marrella\,\n7th Dan Shihan Renata Jocic\, 6th Dan Shihan     The stage is open to all Aikido enthusiasts\, whether with more or less experience\, all are welcome!\nThere is plenty of time to train and relax!\nThe Kerenzerberg center offers ideal training conditions and the surrounding mountains offer a winter landscape that invites you to enjoy and linger.\nIn addition to physical techniques\, we also train with bokken and jo.\nNumber of places limited to 40 people.\nThe announcement with more details about the stage incl.\nRegistration can be found at:          https://aikidoschulebern.ch/28-aikido-winterstage-kerenzerberg/ \nDownload program\n  \n 
URL:https://www.aikikai.ch/en/mitglieder-event/28th-aikido-winter-days-kerenzerberg
LOCATION:Sportzentrum Kerenzerberg\, Filzbach\, Filzbach\, Glarus\, Switzerland
CATEGORIES:Member events
ATTACH;FMTTYPE=image/jpeg:https://www.aikikai.ch/wp-content/uploads/2024/09/A3h-Kernzerberg-24-1-600-e1725870644758.jpg
ORGANIZER;CN="Aikido Schule Bern":MAILTO:info@aikidoschulebern.ch
END:VEVENT
BEGIN:VEVENT
DTSTART;TZID=UTC:20241215T100000
DTEND;TZID=UTC:20241215T130000
DTSTAMP:20260421T144042
CREATED:20240828T080803Z
LAST-MODIFIED:20240909T084303Z
UID:4195-1734256800-1734267600@www.aikikai.ch
SUMMARY:Genkikai _ Japanese Yoga
DESCRIPTION:Genkikai combines meditation\, breathing and gentle forms of gymnastics.\nWe relax and refresh ourselves.\nSpecific breathing exercises help us to feel our center – the silence of meditation supports us in becoming more aware of our feelings\, thoughts and body.\nIn Genkikai\, our body\, soul and mind are given time to calm down and let go of our everyday lives. \nNo previous knowledge is necessary.\nNew faces are very welcome. \nBring along: Comfortable\, warm training clothes\, socks\, clean slippers or slippers\, seat cushion (or towels on which you can sit comfortably\, approx. 20-30 cm high) \nFr 40.- in cash and ideally in small notes. \nPlease register by e-mail by the Wednesday before. elisabeth.heiz@gmx.ch\nDownload the program
URL:https://www.aikikai.ch/en/mitglieder-event/genkikai-_-japanese-yoga-3
LOCATION:Aikidoschule SanShinKai Basel\, Hagentalerstrasse 49\, Basel\, BS\, 4055\, Schweiz
CATEGORIES:Member events
ATTACH;FMTTYPE=image/png:https://www.aikikai.ch/wp-content/uploads/2024/08/Genkikai.png
ORGANIZER;CN="Aikidoschule SanShinKai Basel":MAILTO:info@aikidoschule-sanshinkai-basel.ch
END:VEVENT
BEGIN:VEVENT
DTSTART;TZID=UTC:20241207T100000
DTEND;TZID=UTC:20241207T160000
DTSTAMP:20260421T144042
CREATED:20240201T140716Z
LAST-MODIFIED:20250325T113846Z
UID:4085-1733565600-1733587200@www.aikikai.ch
SUMMARY:ACSA Yudansha Stage Meyrin
DESCRIPTION:National meeting of ACSA black belt holders\nwith\nMüller Christoph Sensei\, 6th Dan\nHans-Peter Häderli Sensei 6th Dan \n10:00 to 16:00 followed by aperitif \nDownload program\nPlease take Jo + Bokken with you.\nAll 1st kyu are cordially invited.\nThe stage is free of charge for all ACSA members.\nAikidokas without ACSA license pay CHF 30.-\nACSA members please do not forget your ACSA card.
URL:https://www.aikikai.ch/en/mitglieder-event/acsa-yudansha-stage
LOCATION:Ecole Bellavista II – Meyrin\, Avenue de Vaudagne 39\, Meyrin\, 1217\, Schweiz
CATEGORIES:ACSA events
ATTACH;FMTTYPE=image/png:https://www.aikikai.ch/wp-content/uploads/2023/08/logoHD-e1710698871226.png
END:VEVENT
BEGIN:VEVENT
DTSTART;TZID=UTC:20241116T133000
DTEND;TZID=UTC:20241116T170000
DTSTAMP:20260421T144042
CREATED:20240201T140544Z
LAST-MODIFIED:20240201T140544Z
UID:4083-1731763800-1731776400@www.aikikai.ch
SUMMARY:ACSA Council Meeting / Séance des Conseils
DESCRIPTION:
URL:https://www.aikikai.ch/en/mitglieder-event/acsa-council-meeting-seance-des-conseils
LOCATION:Bern\, Zeughausstrasse 41\, Bern\, 3001\, Switzerland
CATEGORIES:ACSA events
ATTACH;FMTTYPE=image/png:https://www.aikikai.ch/wp-content/uploads/2023/08/logoHD-e1710698871226.png
END:VEVENT
BEGIN:VEVENT
DTSTART;TZID=UTC:20241116T090000
DTEND;TZID=UTC:20241116T120000
DTSTAMP:20260421T144042
CREATED:20240620T091856Z
LAST-MODIFIED:20240620T091856Z
UID:4108-1731747600-1731758400@www.aikikai.ch
SUMMARY:Stage Aikido in Ostermundigen organized by the Zollikofen Aikido School
DESCRIPTION:Aikido Stage of the Aikido schools Ostermundigen\, Zollikofen and Lyss on June 1\, 2024 with Thomas Moser Shidoin 5th Dan / Sandra Bernaschina Moser Shidoin 4th Dan Location: Aikido Dojo Ostermundigen\, Grubenstrasse 6\, 3072 Ostermundigen Topic: Examination programs according to Ikeda Sensei\, all levels (children and adults) Costs Stage: Adults CHF 15.00 Children CHF Free of charge Training time: from 09.00 to 12.00 Number of participants: limited to 20. Send registration to: info@aikidoschule-zollikofen.chJournée d’Aikido download \n 
URL:https://www.aikikai.ch/en/mitglieder-event/stage-aikido-in-ostermundigen-organized-by-the-zollikofen-aikido-school
LOCATION:Aikido Dojo Ostermundigen\, Grubenstrasse 6\, 3072 Ostermundigen\, Grubenstrasse 6\, Ostermundigen\, 3072\, Schweiz
CATEGORIES:Member events
ATTACH;FMTTYPE=image/png:https://www.aikikai.ch/wp-content/uploads/2024/06/Logo-Aikidoschulen-Ost-Zoll-Lyss.png
ORGANIZER;CN="Aikidoschule Zollikofen":MAILTO:info@aikidoschule-zollikofen.ch
END:VEVENT
BEGIN:VEVENT
DTSTART;TZID=UTC:20241109T100000
DTEND;TZID=UTC:20241109T130000
DTSTAMP:20260421T144042
CREATED:20240906T115231Z
LAST-MODIFIED:20240906T115231Z
UID:4270-1731146400-1731157200@www.aikikai.ch
SUMMARY:Bokken and Jo basics
DESCRIPTION:Bokken and Jo basics  Location: Aikido School Bern Time: 10.00 – 13.00 The stage is open to everyone.\nThe trainings are structured from basic to advanced level.\nKUMI Tachi and KUMI Jo
URL:https://www.aikikai.ch/en/mitglieder-event/bokken-and-jo-basics
LOCATION:Aikido Schule Bern\, Wylerringstrasse 36\, Bern\, Bern\, 3014\, Switzerland
CATEGORIES:Member events
ATTACH;FMTTYPE=image/png:https://www.aikikai.ch/wp-content/uploads/2024/09/Logo.png
ORGANIZER;CN="Aikido Schule Bern":MAILTO:info@aikidoschulebern.ch
END:VEVENT
BEGIN:VEVENT
DTSTART;TZID=UTC:20241109T094500
DTEND;TZID=UTC:20241109T170000
DTSTAMP:20260421T144042
CREATED:20240721T122518Z
LAST-MODIFIED:20240721T122518Z
UID:4106-1731145500-1731171600@www.aikikai.ch
SUMMARY:Tanrenkai Aikikai Basel
DESCRIPTION:Jean-Claude Aegerter Shihan\, 7th Dan\, Christian Bucher Shidoin\, 5th Dan 9:45 – 12:15 / 14:00 – 17:00 Members free of charge Guests: full day 30.- / half day 20.-
URL:https://www.aikikai.ch/en/mitglieder-event/tanrenkai-aikikai-basel-2
LOCATION:BS
CATEGORIES:Member events
ATTACH;FMTTYPE=image/png:https://www.aikikai.ch/wp-content/uploads/2024/03/Aikikai-Basel-e1711570725888.png
END:VEVENT
BEGIN:VEVENT
DTSTART;TZID=UTC:20241103T100000
DTEND;TZID=UTC:20241103T130000
DTSTAMP:20260421T144042
CREATED:20240828T080705Z
LAST-MODIFIED:20240909T084357Z
UID:4189-1730628000-1730638800@www.aikikai.ch
SUMMARY:Genkikai _ Japanese Yoga
DESCRIPTION:Genkikai combines meditation\, breathing and gentle forms of gymnastics.\nWe relax and refresh ourselves.\nSpecific breathing exercises help us to feel our center – the silence of meditation supports us in becoming more aware of our feelings\, thoughts and body.\nIn Genkikai\, our body\, soul and mind are given time to calm down and let go of our everyday lives. \nNo previous knowledge is necessary.\nNew faces are very welcome. \nBring along: Comfortable\, warm training clothes\, socks\, clean slippers or slippers\, seat cushion (or towels on which you can sit comfortably\, approx. 20-30 cm high) \nFr 40.- in cash and ideally in small notes. \nPlease register by e-mail by the Wednesday before. elisabeth.heiz@gmx.ch\nDownload the program
URL:https://www.aikikai.ch/en/mitglieder-event/genkikai-_-japanese-yoga-2
LOCATION:Aikidoschule SanShinKai Basel\, Hagentalerstrasse 49\, Basel\, BS\, 4055\, Schweiz
CATEGORIES:Member events
ATTACH;FMTTYPE=image/png:https://www.aikikai.ch/wp-content/uploads/2024/08/Genkikai.png
ORGANIZER;CN="Aikidoschule SanShinKai Basel":MAILTO:info@aikidoschule-sanshinkai-basel.ch
END:VEVENT
BEGIN:VEVENT
DTSTART;TZID=UTC:20241026T100000
DTEND;TZID=UTC:20241027T130000
DTSTAMP:20260421T144042
CREATED:20240312T170124Z
LAST-MODIFIED:20240909T084138Z
UID:4104-1729936800-1730034000@www.aikikai.ch
SUMMARY:Aikido School St. Gallen & Friends/ 4th memorial days for Renato
DESCRIPTION:In memory of Renato Filippin\, Shihan\, 7th Dan So Hombu (March 03\, 1949 to November 01\, 2020)\, who built up the Aikido School St. Gallen and shaped our Aikido\, we are organizing the fourth memorial day. More information will follow.
URL:https://www.aikikai.ch/en/mitglieder-event/4th-memorial-days-for-renato-filippin
LOCATION:Judo und Ju-Jitsu Club Rorschach\, Burghaldenstr. 11\, Rorschach\, SG\, 9400\, Schweiz
CATEGORIES:Member events
ATTACH;FMTTYPE=image/jpeg:https://www.aikikai.ch/wp-content/uploads/2024/03/Logo-St.-Gallen.jpg
ORGANIZER;CN="Aikidoschule St. Gallen":MAILTO:a.thoma@aikido-sg.ch
END:VEVENT
BEGIN:VEVENT
DTSTART;TZID=UTC:20241019T100000
DTEND;TZID=UTC:20241020T160000
DTSTAMP:20260421T144042
CREATED:20240531T154549Z
LAST-MODIFIED:20240531T154549Z
UID:4081-1729332000-1729440000@www.aikikai.ch
SUMMARY:ACSA Stage in Langenthal
DESCRIPTION:with Fritz Heuscher 7th Dan\, Shihan Sonja Eberhard\, 5th Dan René Isenring\, 4th Dan Martina Heuscher\, 4th Dan\nProgram – Download
URL:https://www.aikikai.ch/en/mitglieder-event/acsa-stage-in-langenthal
LOCATION:Aikido Schule Langenthal\, Gaswerkstrasse 66A\, Langenthal\, BE\, 4900
CATEGORIES:ACSA events
ATTACH;FMTTYPE=image/png:https://www.aikikai.ch/wp-content/uploads/2024/05/ACSA-Logo-klein-e1723986431189.png
END:VEVENT
BEGIN:VEVENT
DTSTART;TZID=UTC:20241014T100000
DTEND;TZID=UTC:20241017T150000
DTSTAMP:20260421T144042
CREATED:20240904T104535Z
LAST-MODIFIED:20240904T104535Z
UID:4278-1728900000-1729177200@www.aikikai.ch
SUMMARY:Aikido girls' project week fall break 2024
DESCRIPTION:Beginners Join us and experience a week full of energy\, self-defense and fun!\nIn our Aikido – Girls’ Project Week\, you will learn the basics of this fascinating Japanese martial art.\nDiscover your strengths\, improve your self-confidence and develop new skills while training with other girls and young women.\nNo previous knowledge required!\nJust come along and join in. Advanced In this intensive week of training and development\, we will focus on advanced techniques to refine your skills and take your Aikido knowledge to a higher level.\nWe will work specifically with the principles of Aikido.        \nProgram Download
URL:https://www.aikikai.ch/en/mitglieder-event/aikido-girls-project-week-fall-break-2024
LOCATION:Aikidoschule St. Gallen\, Guisanstr. 71\, 9010 St. Gallen
CATEGORIES:Member events
ATTACH;FMTTYPE=image/jpeg:https://www.aikikai.ch/wp-content/uploads/2024/03/Logo-St.-Gallen.jpg
ORGANIZER;CN="Aikidoschule St. Gallen":MAILTO:a.thoma@aikido-sg.ch
END:VEVENT
BEGIN:VEVENT
DTSTART;TZID=UTC:20241012T093000
DTEND;TZID=UTC:20241012T093000
DTSTAMP:20260421T144042
CREATED:20240531T081832Z
LAST-MODIFIED:20240531T081832Z
UID:2212-1728725400-1728725400@www.aikikai.ch
SUMMARY:AIKI-JO SEMINAR
DESCRIPTION:Jo-Kata 31 & 31 Kata-Kumi-Jo\nBashar A.\n4th Dan Aikido\, 4th Dan Iaido\, 2nd Dan Kendo\nFirst lesson: 09:30-11:30\nOne hour Break\nSecond lesson: 12:30-14:30 \nBring Bokken & Jo & Small Towel *optional
URL:https://www.aikikai.ch/en/mitglieder-event/aiki-jo-seminar-2
LOCATION:Zweierstrasse 106\, 8003 Zürich\, Zweierstrasse 106\, Zurich\, Zürich\, 8003\, Schweiz
ATTACH;FMTTYPE=image/png:https://www.aikikai.ch/wp-content/uploads/2024/05/Jo-Budokan-Aikido.png
ORGANIZER;CN="Budokan Aikido Zurich":MAILTO:info.budokanaikido@gmail.com
END:VEVENT
BEGIN:VEVENT
DTSTART;TZID=UTC:20240921T090000
DTEND;TZID=UTC:20240921T170000
DTSTAMP:20260421T144042
CREATED:20240201T140326Z
LAST-MODIFIED:20240816T082538Z
UID:4032-1726909200-1726938000@www.aikikai.ch
SUMMARY:ACSA Annual Meeting / Rencontre annuelle
DESCRIPTION:Saturdays only in Mooseedorf\nwith\nNef Hansruedi Sensei\, 6th Dan Braun Oliver\, 4th Dan Thoma Amadea\, 3rd Dan\nProgram\n\n 
URL:https://www.aikikai.ch/en/mitglieder-event/acsa-annual-meeting-rencontre-annuelle
LOCATION:Moosseedorf Jahrestreffen\, Schulhausstrasse 26\, Moosseedorf\, 3302\, Schweiz
CATEGORIES:ACSA events
ATTACH;FMTTYPE=image/png:https://www.aikikai.ch/wp-content/uploads/2023/08/logoHD-e1710698871226.png
END:VEVENT
BEGIN:VEVENT
DTSTART;TZID=UTC:20240914T140000
DTEND;TZID=UTC:20240914T140000
DTSTAMP:20260421T144042
CREATED:20240826T081805Z
LAST-MODIFIED:20240826T081805Z
UID:4180-1726322400-1726322400@www.aikikai.ch
SUMMARY:Anniversary: 5 years Aikido School Überlingen e.V.
DESCRIPTION:On January 27\, 2019\, we officially opened the Aikido School Überlingen e.V.\nIn 1984\, Renato Filippin came to Überlingen for the first time to introduce some judokas to the martial art of aikido.\nA double reason to celebrate!     \nOpen day:  \n  14:00 Welcome and opening 14:15 Embukai Kids 14:30 Embukai Youth 14:45 Embukai Adults 15:00 Open training and hands-on activities for those interested 16:00 Historical review – 40 years of Aikido in Überlingen 16:15 Honoring and thanking long-standing members and supporters 16:30 A cozy conclusion with snacks and drinks   \nFor invited guests\n  17:30 – 19:00 Aikido training followed by showers and aperitif 20:00 – 21:30 Dinner together in the dojo 21:30 Party\nImportant: For better planning\, we ask our invited guests to register by August 31\, 2024 at the latest by mail:\nwillkommen@aikido-ueberlingen.de or by phone: +49 7551 94 54 15 4     \nProgram download
URL:https://www.aikikai.ch/en/mitglieder-event/anniversary-5-years-aikido-school-ueberlingen-e-v
LOCATION:Aikido Schule Überlingen e.V.; D-88662 Überlingen am Bodensee\, Langgasse 5\, Überlingen\, 88662\, Deutschland
CATEGORIES:Member events
ATTACH;FMTTYPE=image/png:https://www.aikikai.ch/wp-content/uploads/2024/08/Logo-ueberlineg-e1724660394102.png
END:VEVENT
BEGIN:VEVENT
DTSTART;TZID=UTC:20240908T100000
DTEND;TZID=UTC:20240908T130000
DTSTAMP:20260421T144042
CREATED:20240828T072805Z
LAST-MODIFIED:20240828T075533Z
UID:4177-1725789600-1725800400@www.aikikai.ch
SUMMARY:Genkikai _ Japanese Yoga
DESCRIPTION:Genkikai combines meditation\, breathing and gentle forms of gymnastics.\nWe relax and refresh ourselves.\nSpecific breathing exercises help us to feel our center – the silence of meditation supports us in becoming more aware of our feelings\, thoughts and body.\nIn Genkikai\, our body\, soul and mind are given time to calm down and let go of our everyday lives.    \nNo previous knowledge is necessary.\nNew faces are very welcome.  \nBring along: Comfortable\, warm training clothes\, socks\, clean slippers or slippers\, seat cushion (or towels on which you can sit comfortably\, approx. 20-30 cm high) \nFr 40.- in cash and ideally in small notes. \nPlease register by e-mail by the Wednesday before. elisabeth.heiz@gmx.ch\nDownload the program
URL:https://www.aikikai.ch/en/mitglieder-event/genkikai-_-japanese-yoga
LOCATION:Aikidoschule SanShinKai Basel\, Hagentalerstrasse 49\, Basel\, BS\, 4055\, Schweiz
CATEGORIES:Member events
ATTACH;FMTTYPE=image/png:https://www.aikikai.ch/wp-content/uploads/2024/08/Genkikai.png
ORGANIZER;CN="Aikidoschule SanShinKai Basel":MAILTO:info@aikidoschule-sanshinkai-basel.ch
END:VEVENT
BEGIN:VEVENT
DTSTART;TZID=UTC:20240907T094500
DTEND;TZID=UTC:20240907T170000
DTSTAMP:20260421T144042
CREATED:20240721T122827Z
LAST-MODIFIED:20240828T075629Z
UID:4102-1725702300-1725728400@www.aikikai.ch
SUMMARY:Tanrenkai Aikikai Basel
DESCRIPTION:Jean-François Marquis Shidoin\, 6th Dan and Chris Rogers Shidoin\, 5th Dan 9:45 am – 12:15 pm / 2:00 pm – 5:00 pm Members free of charge Guests: full day 30.- / half day 20.-
URL:https://www.aikikai.ch/en/mitglieder-event/tanrenkai-aikikai-basel
LOCATION:Aikikai Basel\, Horburgstrasse 22\, Basel\, 4057\, Schweiz
CATEGORIES:Member events
ATTACH;FMTTYPE=image/png:https://www.aikikai.ch/wp-content/uploads/2024/03/Aikikai-Basel-e1711570725888.png
END:VEVENT
BEGIN:VEVENT
DTSTART;TZID=UTC:20240824T090000
DTEND;TZID=UTC:20240825T130000
DTSTAMP:20260421T144042
CREATED:20240624T142607Z
LAST-MODIFIED:20240624T142607Z
UID:4098-1724490000-1724590800@www.aikikai.ch
SUMMARY:Anniversary course 10 years of Aikido at the Mei-Sei-Kai store
DESCRIPTION:with\n  Paul Müller\, 7th Dan Shihan & Peter Duwe\, 5th Dan Shidoin\nWebsite info & registration\nPoster Download\n  We look forward to seeing you! Costs / fees (SFr / EUR): Aikido Ganzer Lehrgang / seminar ticket 50.- Halber Tag / half day ticket 20.- Mitglieder Aikido Speicher kostenlos
URL:https://www.aikikai.ch/en/mitglieder-event/anniversary-course-10-years-of-aikido-at-the-mei-sei-kai-store
LOCATION:Aikido Speicher\, Dojo Speicher\, Schupfen 10\, Speicher\, AR\, 9042\, Schweiz
CATEGORIES:Member events
ATTACH;FMTTYPE=image/png:https://www.aikikai.ch/wp-content/uploads/2024/06/Aikido-Speicher-Mei-Sei-Kai.png
ORGANIZER;CN="Aikido Speicher Mei Sei Kai":MAILTO:info@aikidospeicher.ch
END:VEVENT
BEGIN:VEVENT
DTSTART;TZID=UTC:20240824T090000
DTEND;TZID=UTC:20240824T170000
DTSTAMP:20260421T144042
CREATED:20240327T082028Z
LAST-MODIFIED:20240327T082028Z
UID:4096-1724490000-1724518800@www.aikikai.ch
SUMMARY:Summer Days in Singen (Germany) with Fritz Heuscher\, Shihan 7th Dan
DESCRIPTION:Our second summer day in Singen\, 20 minutes from Schaffhausen\, is a festive day for children and adults alike.\nPeople from different regions come together who have and live a great passion.\nI wonder what? \nAIKIDO\n \nFritz Heuscher\, Shihan 7th Dan\n\n\n\n09:00 to 10:00 a.m.\nChildren’s training\n\n\n10:15 to 12:00\nAdult training\n\n\n12:30 to 15:00\nLunch (Asian restaurant)\n\n\n15:00 to 17:00\nAdult training\n\n\nfollowed by\nAperitif at Thomas Mata\n\n\n\n  Price: 30.00 €   \nDownload the program
URL:https://www.aikikai.ch/en/mitglieder-event/summer-days-in-singen-germany-with-fritz-heuscher-shihan-7th-dan
LOCATION:Singen\, Hardt Turnhalle\, Freiburger Str. 8\, Singen\, 78224\, Deutschland
CATEGORIES:Member events
ATTACH;FMTTYPE=image/png:https://www.aikikai.ch/wp-content/uploads/2024/03/Logo_Namen-e1711572666822.png
ORGANIZER;CN="Aikido Aikikai Schule Singen":MAILTO:aikido-singen@gmx.de
END:VEVENT
BEGIN:VEVENT
DTSTART;TZID=Europe/Helsinki:20240817T100000
DTEND;TZID=Europe/Helsinki:20240817T160000
DTSTAMP:20260421T144042
CREATED:20240531T081403Z
LAST-MODIFIED:20240531T081403Z
UID:4034-1723888800-1723910400@www.aikikai.ch
SUMMARY:Stage in Appenzell
DESCRIPTION:with Shihan Fritz Heuscher 7th Dan\n  10:00-12:00 – Aikido training 12:15-14:00 – Lunch break 14:30-16:00 – Individual exam preparation workshop led by Fritz Heuscher  For further information and registration please register by 15.08.2024
URL:https://www.aikikai.ch/en/mitglieder-event/stage-in-appenzell
LOCATION:Aikido Appenzell\, Weissbadstrasse 67\, Appenzell\, Appenzell Innerrhoden\, 9050\, Schweiz
CATEGORIES:Member events
ATTACH;FMTTYPE=image/png:https://www.aikikai.ch/wp-content/uploads/2024/05/Aikido-Appenzell-Logo.png
END:VEVENT
BEGIN:VEVENT
DTSTART;TZID=UTC:20240810T093000
DTEND;TZID=UTC:20240810T143000
DTSTAMP:20260421T144042
CREATED:20240531T080520Z
LAST-MODIFIED:20240531T080619Z
UID:2207-1723282200-1723300200@www.aikikai.ch
SUMMARY:AIKI-JO SEMINAR
DESCRIPTION:Enhancement of the Jo-Suburi and Jo-Awase Comprehension of Kumi-JO\nBashar A.\n4th Dan Aikido\, 4th Dan Iaido\, 2nd Dan Kendo\n \nFirst lesson: 09:30-11:30\nOne hour Break\nSecond lesson: 12:30-14:30 \nBring Bokken & Jo & Small Towel *optional
URL:https://www.aikikai.ch/en/mitglieder-event/aiki-jo-seminar
LOCATION:Zweierstrasse 106\, 8003 Zürich\, Zweierstrasse 106\, Zurich\, Zürich\, 8003\, Schweiz
ATTACH;FMTTYPE=image/webp:https://www.aikikai.ch/wp-content/uploads/2024/05/Logo.webp
ORGANIZER;CN="Budokan Aikido Zurich":MAILTO:info.budokanaikido@gmail.com
END:VEVENT
BEGIN:VEVENT
DTSTART;TZID=UTC:20240504T093000
DTEND;TZID=UTC:20240504T093000
DTSTAMP:20260421T144042
CREATED:20240531T075633Z
LAST-MODIFIED:20240531T075633Z
UID:2198-1714815000-1714815000@www.aikikai.ch
SUMMARY:SWORD ART SEMINAR
DESCRIPTION:The deep-rooted principles of swordsmanship found in Kendo and Iaido offer a multitude of advantageous applications within the realm of Aikido.\nBashar A.\n4th Dan Aikido\, 4th Dan Iaido\, 2nd Dan Kendo\nFirst lesson: 09:30-11:30\nOne hour Break\nSecond lesson: 12:30-14:30 \nPlease Bring Bokken & Saya (scabbard) *optional
URL:https://www.aikikai.ch/en/mitglieder-event/sword-art-seminar
LOCATION:Zweierstrasse 106\, 8003 Zürich\, Zweierstrasse 106\, Zurich\, Zürich\, 8003\, Schweiz
ORGANIZER;CN="Budokan Aikido Zurich":MAILTO:info.budokanaikido@gmail.com
END:VEVENT
BEGIN:VEVENT
DTSTART;TZID=UTC:20240302T093000
DTEND;TZID=UTC:20240302T143000
DTSTAMP:20260421T144042
CREATED:20240213T002349Z
LAST-MODIFIED:20240531T073443Z
UID:2189-1709371800-1709389800@www.aikikai.ch
SUMMARY:Aikido-KEN
DESCRIPTION:Enhancing Ken suburb and Awase\nComprehension of Kumi-Tachi\nBashar A.\n4th Dan Aikido\, 4th Dan Iaido\, 2nd Dan Kendo\nFirst lesson: 09:30-11:30\nOne hour Break\nSecond lesson: 12:30-14:30 \nPlease bring Bokken & Small Taoel *optional
URL:https://www.aikikai.ch/en/mitglieder-event/aikido-ken
LOCATION:Zweierstrasse 106\, 8003 Zürich\, Zweierstrasse 106\, Zurich\, Zürich\, 8003\, Schweiz
ORGANIZER;CN="Budokan Aikido Zurich":MAILTO:info.budokanaikido@gmail.com
END:VEVENT
END:VCALENDAR