BEGIN:VCALENDAR
VERSION:2.0
PRODID:-// - ECPv6.15.20//NONSGML v1.0//EN
CALSCALE:GREGORIAN
METHOD:PUBLISH
X-ORIGINAL-URL:https://www.aikikai.ch/en
X-WR-CALDESC:Events for 
REFRESH-INTERVAL;VALUE=DURATION:PT1H
X-Robots-Tag:noindex
X-PUBLISHED-TTL:PT1H
BEGIN:VTIMEZONE
TZID:UTC
BEGIN:STANDARD
TZOFFSETFROM:+0000
TZOFFSETTO:+0000
TZNAME:UTC
DTSTART:20240101T000000
END:STANDARD
END:VTIMEZONE
BEGIN:VEVENT
DTSTART;TZID=UTC:20250710T150000
DTEND;TZID=UTC:20250713T123000
DTSTAMP:20260424T034445
CREATED:20240917T081122Z
LAST-MODIFIED:20250414T090747Z
UID:4507-1752159600-1752409800@www.aikikai.ch
SUMMARY:ACSA Summer School in Saignelégier
DESCRIPTION:The summer school is a place of encounter and exchange\nParticipants: The stage is open to all Aikidoka aged 10 and over\, no childcare outside of training times. \nwith:Renata Jocic\, 7th DanAndy Raudies\, 6th DanAndreas Schneider\, 5th Danand assistant coaches/trainers \n\nThis registration is binding and subject to a fee\, no cash payment possible on site! \nProgram Download (D)\nProgram Download (F)\n \nYouth hostel\, in a shared room above the training gym:Room with 4 – 6 beds Cost: CHF 60 incl. breakfast / indoor pool / per day  \nRegistration Youth Hostel\nLink to further accommodations\nLink to campsite\nBook in good time!
URL:https://www.aikikai.ch/en/mitglieder-event/acsa-summer-school-in-saignelegier
LOCATION:Saignelégier\, Chemin des Sports 10\, Saignelégier\, 2350\, Schweiz
CATEGORIES:ACSA events
ATTACH;FMTTYPE=image/png:https://www.aikikai.ch/wp-content/uploads/2023/08/logoHD-e1710698871226.png
END:VEVENT
END:VCALENDAR