BEGIN:VCALENDAR
VERSION:2.0
PRODID:-// - ECPv6.15.20//NONSGML v1.0//EN
CALSCALE:GREGORIAN
METHOD:PUBLISH
X-ORIGINAL-URL:https://www.aikikai.ch/en
X-WR-CALDESC:Events for 
REFRESH-INTERVAL;VALUE=DURATION:PT1H
X-Robots-Tag:noindex
X-PUBLISHED-TTL:PT1H
BEGIN:VTIMEZONE
TZID:UTC
BEGIN:STANDARD
TZOFFSETFROM:+0000
TZOFFSETTO:+0000
TZNAME:UTC
DTSTART:20240101T000000
END:STANDARD
END:VTIMEZONE
BEGIN:VEVENT
DTSTART;TZID=UTC:20251206T100000
DTEND;TZID=UTC:20251206T160000
DTSTAMP:20260422T071127
CREATED:20241030T131046Z
LAST-MODIFIED:20250406T093538Z
UID:4569-1765015200-1765036800@www.aikikai.ch
SUMMARY:ACSA Yudansha Stage
DESCRIPTION:with: Francis Chapuis Sensei\, 6th Dan
URL:https://www.aikikai.ch/en/mitglieder-event/acsa-yudansha-stage-3
CATEGORIES:ACSA events
ATTACH;FMTTYPE=image/png:https://www.aikikai.ch/wp-content/uploads/2023/08/logoHD-e1710698871226.png
END:VEVENT
END:VCALENDAR