BEGIN:VCALENDAR
VERSION:2.0
PRODID:-// - ECPv6.15.20//NONSGML v1.0//EN
CALSCALE:GREGORIAN
METHOD:PUBLISH
X-ORIGINAL-URL:https://www.aikikai.ch/en
X-WR-CALDESC:Events for 
REFRESH-INTERVAL;VALUE=DURATION:PT1H
X-Robots-Tag:noindex
X-PUBLISHED-TTL:PT1H
BEGIN:VTIMEZONE
TZID:UTC
BEGIN:STANDARD
TZOFFSETFROM:+0000
TZOFFSETTO:+0000
TZNAME:UTC
DTSTART:20250101T000000
END:STANDARD
END:VTIMEZONE
BEGIN:VEVENT
DTSTART;TZID=UTC:20260322T100000
DTEND;TZID=UTC:20260322T130000
DTSTAMP:20260421T141817
CREATED:20260114T101647Z
LAST-MODIFIED:20260114T101647Z
UID:5709-1774173600-1774184400@www.aikikai.ch
SUMMARY:Genkikai _ Japanese Yoga
DESCRIPTION:Genkikai combines meditation\, breathing and gentle forms of gymnastics.\nWe relax and refresh ourselves.\nSpecific breathing exercises help us to feel our center – the silence of meditation supports us in becoming more aware of our feelings\, thoughts and body.\nIn Genkikai\, our body\, soul and mind are given time to calm down and let go of our everyday lives.    \nNo previous knowledge is necessary.\nNew faces are very welcome.  \nBring along: Comfortable\, warm training clothes\, socks\, clean slippers or slippers\, seat cushion (or towels on which you can sit comfortably\, approx. 20-30 cm high) \nFr 40.- in cash and ideally in small notes. \nPlease register by e-mail by the Wednesday before. elisabeth.heiz@gmx.ch\nDownload the program
URL:https://www.aikikai.ch/en/mitglieder-event/genkikai-_-japanese-yoga-5
LOCATION:Aikidoschule SanShinKai Basel\, Hagentalerstrasse 49\, Basel\, BS\, 4055\, Schweiz
CATEGORIES:Member events
ATTACH;FMTTYPE=image/png:https://www.aikikai.ch/wp-content/uploads/2024/08/Genkikai.png
ORGANIZER;CN="Aikidoschule SanShinKai Basel":MAILTO:info@aikidoschule-sanshinkai-basel.ch
END:VEVENT
END:VCALENDAR